BEGIN:VCALENDAR
VERSION:2.0
PRODID:-//ChamberMaster//Event Calendar 2.0//EN
METHOD:PUBLISH
X-PUBLISHED-TTL:P3D
REFRESH-INTERVAL:P3D
CALSCALE:GREGORIAN
BEGIN:VEVENT
DTSTART:20150721T223000Z
DTEND:20150722T020000Z
X-MICROSOFT-CDO-ALLDAYEVENT:FALSE
SUMMARY:Art Lecture by Paula Wilson
DESCRIPTION:Art Lecture by Paula Wilson.\n\nPaula Wilson\, the Summer Studio Art Programs' featured visiting artist will give a talk about her work. Paula Wilson is a painter and printmaker as well as a video and installation artist. 6:30 p.m.-Filene Recital Hall For more information call 518-580-5084
X-ALT-DESC;FMTTYPE=text/html:Art Lecture by Paula Wilson.<br />\nPaula Wilson\, the Summer Studio Art Programs&#39\; featured visiting artist will give a talk about her work. Paula Wilson is a painter and printmaker as well as a video and installation artist. 6:30 p.m.-Filene Recital Hall For more information call 518-580-5084
LOCATION:Skidmore College\, Filene Recital Hall 815 N Broadway Saratoga Springs\, NY 12866
UID:e.2254.9762
SEQUENCE:3
DTSTAMP:20260423T040638Z
URL:https://chamber.saratoga.org/events/details/art-lecture-by-paula-wilson-07-21-2015-9762
END:VEVENT

END:VCALENDAR
