BEGIN:VCALENDAR
VERSION:2.0
PRODID:-//ChamberMaster//Event Calendar 2.0//EN
METHOD:PUBLISH
X-PUBLISHED-TTL:P3D
REFRESH-INTERVAL:P3D
CALSCALE:GREGORIAN
BEGIN:VEVENT
DTSTART:20160719T203000Z
DTEND:20160719T220000Z
X-MICROSOFT-CDO-ALLDAYEVENT:FALSE
SUMMARY:Art lecture by Borinquen Gallo
DESCRIPTION:Gallo's artwork is inspired by the nature of materials that we consume and dispose of. She uses found fabric scraps\, plastic trash bags\, and other recyclable materials transforming mundane materials into unexpected beauty.
X-ALT-DESC;FMTTYPE=text/html:Gallo&#39\;s artwork is inspired by the nature of materials that we consume and dispose of. She uses found fabric scraps\, plastic trash bags\, and other recyclable materials transforming mundane materials into unexpected beauty.
LOCATION:Skidmore College\, Gannett Auditorium 815 N Broadway Saratoga Springs\, NY 12866
UID:e.2254.17177
SEQUENCE:3
DTSTAMP:20260421T050338Z
URL:https://chamber.saratoga.org/events/details/art-lecture-by-borinquen-gallo-07-19-2016-17177
END:VEVENT

END:VCALENDAR
