BEGIN:VCALENDAR
VERSION:2.0
PRODID:-//ChamberMaster//Event Calendar 2.0//EN
METHOD:PUBLISH
X-PUBLISHED-TTL:P3D
REFRESH-INTERVAL:P3D
CALSCALE:GREGORIAN
BEGIN:VEVENT
DTSTART:20140717T210000Z
DTEND:20140717T220000Z
X-MICROSOFT-CDO-ALLDAYEVENT:FALSE
SUMMARY:Art Lecture - 07/17/2014
DESCRIPTION:Art Lecture Art Lecture by Nicola LopezLópez's work describes and reconfigures our contemporary (primarily urban) landscape.  Her focus on describing ‘place’ stems from an interest in urban planning\, architecture and anthropology and it has been fueled by time spent working and traveling in different landscapes. For more information please visit her website: www.nicolalopez.com\n\n 7 p.m.-Filene Recital Hall For more information call 518-580-5084
X-ALT-DESC;FMTTYPE=text/html:<p>Art Lecture </p><p><span>Art Lecture by Nicola Lopez</span></p><p><span>López's work describes and reconfigures our contemporary (primarily urban) landscape.&nbsp\; Her focus on describing ‘place’ stems from an interest in urban planning\, architecture and anthropology and it has been fueled by time spent working and traveling in different landscapes.&nbsp\;For more information please visit her website: <a href="http://www.nicolalopez.com/" target="_blank"><span style="color: windowtext\; text-decoration: none\; text-underline: none\;">www.nicolalopez.com</span></a><br><br></span></p> <p><span>7 p.m.-Filene Recital Hall</span></p> <span style="font-size: 12pt\; font-family: Times New Roman\,serif\;">For more information call 518-580-5084</span>
LOCATION:Filene Recital Hall
UID:e.2254.3392
SEQUENCE:3
DTSTAMP:20260424T192752Z
URL:https://chamber.saratoga.org/events/details/art-lecture-07-17-2014-07-17-2014-3392
END:VEVENT

END:VCALENDAR
