BEGIN:VCALENDAR
VERSION:2.0
PRODID:-//ChamberMaster//Event Calendar 2.0//EN
METHOD:PUBLISH
X-PUBLISHED-TTL:P3D
REFRESH-INTERVAL:P3D
CALSCALE:GREGORIAN
BEGIN:VEVENT
DTSTART:20150423T213000Z
DTEND:20150423T224500Z
X-MICROSOFT-CDO-ALLDAYEVENT:FALSE
SUMMARY:Art History Lecture
DESCRIPTION:Art History Lecture: "The Social Life of Images: Nigerian Photographer J.A. Green (1873-1905)" by Skidmore Professor Lisa Aronson. 5:30 p.m.-Davis Auditorium For more information call 518-580-5053
X-ALT-DESC;FMTTYPE=text/html:Art History Lecture: &quot\;The Social Life of Images: Nigerian Photographer J.A. Green (1873-1905)&quot\; by Skidmore Professor Lisa Aronson. 5:30 p.m.-Davis Auditorium For more information call 518-580-5053
LOCATION:Skidmore College\, Davis Auditorium 815 N. Broadway Saratoga Springs\, NY 12866
UID:e.2254.7735
SEQUENCE:3
DTSTAMP:20260423T214009Z
URL:https://chamber.saratoga.org/events/details/art-history-lecture-04-23-2015-7735
END:VEVENT

END:VCALENDAR
