BEGIN:VCALENDAR
VERSION:2.0
PRODID:-//ChamberMaster//Event Calendar 2.0//EN
METHOD:PUBLISH
X-PUBLISHED-TTL:P3D
REFRESH-INTERVAL:P3D
CALSCALE:GREGORIAN
BEGIN:VEVENT
DTSTART:20140819T153000Z
DTEND:20140819T180000Z
X-MICROSOFT-CDO-ALLDAYEVENT:FALSE
SUMMARY:Art Fun in the Summertime - 08/19/2014
DESCRIPTION:Family tours and art studio activitiesDrop in on Tuesday afternoons\nin August for family friendly tours of the museum and exhibitions and enjoy\ncreative time in the art studio. All ages welcome\, no registration\nnecessary. 1:30pm - 4pm.
X-ALT-DESC;FMTTYPE=text/html:<p>Family tours and art studio activities</p><p class="Default"><span style="font-size:11.0pt">Drop in on Tuesday afternoons\nin August for family friendly tours of the museum and exhibitions and enjoy\ncreative time in the art studio.</span><span style="font-size: 11pt\;">&nbsp\;All ages welcome\, no registration\nnecessary. 1:30pm - 4pm.</span></p>
LOCATION:The Hyde Collection Art Museum
UID:e.2254.3516
SEQUENCE:3
DTSTAMP:20260424T140120Z
URL:https://chamber.saratoga.org/events/details/art-fun-in-the-summertime-08-19-2014-08-19-2014-3516
END:VEVENT

END:VCALENDAR
