BEGIN:VCALENDAR
VERSION:2.0
PRODID:-//ChamberMaster//Event Calendar 2.0//EN
METHOD:PUBLISH
X-PUBLISHED-TTL:P3D
REFRESH-INTERVAL:P3D
CALSCALE:GREGORIAN
BEGIN:VEVENT
DTSTART:20170218T140000Z
DTEND:20170218T150000Z
X-MICROSOFT-CDO-ALLDAYEVENT:FALSE
SUMMARY:Art and Yoga
DESCRIPTION:Begin the vacation week by finding your inner Zen among the artwork of acclaimed contemporary nature watercolorist Allen Blagden. Yoga instructor Kate Patterson will lead the group on a spiritual journey to find their inner calm and connect with nature brought to life with Blagden's realism works. RSVP by contacting Colette at 518-792-1761 ext. 310 or adminassist@hydecollection.org.
X-ALT-DESC;FMTTYPE=text/html:Begin the vacation week by finding your inner Zen among the artwork of acclaimed contemporary nature watercolorist Allen Blagden. Yoga instructor Kate Patterson will lead the group on a spiritual journey to find their inner calm and connect with nature brought to life with Blagden&rsquo\;s realism works. RSVP by contacting Colette at 518-792-1761 ext. 310 or adminassist@hydecollection.org.
LOCATION:The Hyde Collection
UID:e.2254.22228
SEQUENCE:3
DTSTAMP:20260420T101849Z
URL:https://chamber.saratoga.org/events/details/art-and-yoga-22228
END:VEVENT

END:VCALENDAR
