BEGIN:VCALENDAR
VERSION:2.0
PRODID:-//ChamberMaster//Event Calendar 2.0//EN
METHOD:PUBLISH
X-PUBLISHED-TTL:P3D
REFRESH-INTERVAL:P3D
CALSCALE:GREGORIAN
BEGIN:VEVENT
DTSTART:20160721T223000Z
DTEND:20160722T003000Z
X-MICROSOFT-CDO-ALLDAYEVENT:FALSE
SUMMARY:"Are You Blushing?" Wine Dinner
DESCRIPTION:Join Joe Armstrong from Winebow for Hors d'Oeuvres\, Rose Tasting and 3-course Dinner\n\n\n\nGrilled Baby Romaine & Shrimp Salad\, paired with Domaine Monfaucon "Les Gardettes" Rose 2015\n\n\n\nDay Boat Bouillabaisse\, paired with Domaine Gueissard Baudol Rose 2015\n\n\n\nBanana Fritters\, paired with Patrick Bottex Bogey de Cerdon"Le Cueille" NV
X-ALT-DESC;FMTTYPE=text/html:<div style="text-align: center\;">Join Joe Armstrong from Winebow for Hors d&#39\;Oeuvres\, Rose Tasting and 3-course Dinner<br />\n<br />\nGrilled Baby Romaine &amp\; Shrimp Salad\, paired with Domaine Monfaucon &quot\;Les Gardettes&quot\; Rose 2015<br />\n<br />\nDay Boat Bouillabaisse\, paired with Domaine Gueissard Baudol Rose 2015<br />\n<br />\nBanana Fritters\, paired with Patrick Bottex Bogey de Cerdon&quot\;Le Cueille&quot\; NV<br />\n&nbsp\;</div>\n
LOCATION:Longfellows Restaurant 500 Union Avenue Saratoga Springs\, NY 12866
UID:e.2254.17208
SEQUENCE:3
DTSTAMP:20260421T080348Z
URL:https://chamber.saratoga.org/events/details/are-you-blushing-wine-dinner-07-21-2016-17208
END:VEVENT

END:VCALENDAR
