BEGIN:VCALENDAR
VERSION:2.0
PRODID:-//ChamberMaster//Event Calendar 2.0//EN
METHOD:PUBLISH
X-PUBLISHED-TTL:P3D
REFRESH-INTERVAL:P3D
CALSCALE:GREGORIAN
BEGIN:VEVENT
DTSTART:20150423T143000Z
DTEND:20150423T153000Z
X-MICROSOFT-CDO-ALLDAYEVENT:FALSE
SUMMARY:Arbor Day with the Lorax
DESCRIPTION:Join us for our Arbor Day celebration with the Lorax. We will read the popular Dr. Seuss story and discuss the importance of trees in our lives. This program is recommended for children ages 10 and under. Registration is required. Fee is $3 per person or $5 per family. Please call 518-584-2000 Ext. 150 to register.
X-ALT-DESC;FMTTYPE=text/html:Join us for our Arbor Day celebration with the Lorax. We will read the popular Dr. Seuss story and discuss the importance of trees in our lives. This program is recommended for children ages 10 and under. Registration is required. Fee is $3 per person or $5 per family. Please call 518-584-2000 Ext. 150 to register.
LOCATION:Saratoga Spa State Park
UID:e.2254.7691
SEQUENCE:3
DTSTAMP:20260423T195925Z
URL:https://chamber.saratoga.org/events/details/arbor-day-with-the-lorax-04-23-2015-7691
END:VEVENT

END:VCALENDAR
