BEGIN:VCALENDAR
VERSION:2.0
PRODID:-//ChamberMaster//Event Calendar 2.0//EN
METHOD:PUBLISH
X-PUBLISHED-TTL:P3D
REFRESH-INTERVAL:P3D
CALSCALE:GREGORIAN
BEGIN:VEVENT
DTSTART:20150416T143000Z
DTEND:20150416T160000Z
X-MICROSOFT-CDO-ALLDAYEVENT:FALSE
SUMMARY:April Showers Bring May Flowers
DESCRIPTION:Learn the science behind this common phrase with a fun activity about the water cycle. This program is recommended for children ages 10 and under. This is a free program\, but registration is required. Please call 518-584-2000 Ext. 150 to register.
X-ALT-DESC;FMTTYPE=text/html:Learn the science behind this common phrase with a fun activity about the water cycle. This program is recommended for children ages 10 and under. This is a free program\, but registration is required. Please call 518-584-2000 Ext. 150 to register.
LOCATION:
UID:e.2254.7689
SEQUENCE:3
DTSTAMP:20260423T214359Z
URL:https://chamber.saratoga.org/events/details/april-showers-bring-may-flowers-04-16-2015-7689
END:VEVENT

END:VCALENDAR
