BEGIN:VCALENDAR
VERSION:2.0
PRODID:-//ChamberMaster//Event Calendar 2.0//EN
METHOD:PUBLISH
X-PUBLISHED-TTL:P3D
REFRESH-INTERVAL:P3D
CALSCALE:GREGORIAN
BEGIN:VEVENT
DTSTART:20161112T140000Z
DTEND:20161112T170000Z
X-MICROSOFT-CDO-ALLDAYEVENT:FALSE
SUMMARY:Antique Clock and Watch Auction
DESCRIPTION:Antique Clock and Watch Auction Sponsored by the Monday Night Clock Group At Burnt Hills Baptist Church 195 Kingsley Road\, Burnt Hills\, NY 12027 Saturday\, November 12th\, 2016 : 9 AM to 12 PM Preview 9 am to 10 am Public invited free of charge. Consignments welcome. No buyer's or seller's premiums. Free coffee and donuts. You may place a reserve on any item consigned but you may not bid on your own lot. Clocks to be auctioned include Seth Thomas Office Calendar Number 10 early model\, grandfather\, wall\, mantle\, carriage\, tambour\, French\, cuckoo\, Seth Thomas\, Ansonia\, New Haven\, Sessions\, Waterbury\, Ingraham\, Cottage\, Ogee\, weight driven\, spring driven\, chime\, banjo\, mission\, kitchen\, black mantle\, gallery\, music boxes\, clock movements\, clock tools\, parts\, books\, weights\, wooden gears\, watch parts\, pocket and wrist watches\, watch tools\, lathes\, etc. Over 200 lots in all. For more information and to consign clocks call Peter Elmendorf\, at 518-587-4435.Those consigning items should drop them off before 8:30 am and move their car out of the lot after delivery to make room for others.
X-ALT-DESC;FMTTYPE=text/html:Antique Clock and Watch Auction Sponsored by the Monday Night Clock Group At Burnt Hills Baptist Church 195 Kingsley Road\, Burnt Hills\, NY 12027 Saturday\, November 12th\, 2016 : 9 AM to 12 PM Preview 9 am to 10 am Public invited free of charge. Consignments welcome. No buyer&rsquo\;s or seller&rsquo\;s premiums. Free coffee and donuts. You may place a reserve on any item consigned but you may not bid on your own lot. Clocks to be auctioned include Seth Thomas Office Calendar Number 10 early model\, grandfather\, wall\, mantle\, carriage\, tambour\, French\, cuckoo\, Seth Thomas\, Ansonia\, New Haven\, Sessions\, Waterbury\, Ingraham\, Cottage\, Ogee\, weight driven\, spring driven\, chime\, banjo\, mission\, kitchen\, black mantle\, gallery\, music boxes\, clock movements\, clock tools\, parts\, books\, weights\, wooden gears\, watch parts\, pocket and wrist watches\, watch tools\, lathes\, etc. Over 200 lots in all. For more information and to consign clocks call Peter Elmendorf\, at 518-587-4435.Those consigning items should drop them off before 8:30 am and move their car out of the lot after delivery to make room for others.
LOCATION:Burnt Hills Baptist Church 195 Kingsley Road Burnt Hills\, NY 12027
UID:e.2254.20780
SEQUENCE:3
DTSTAMP:20260420T200711Z
URL:https://chamber.saratoga.org/events/details/antique-clock-and-watch-auction-20780
END:VEVENT

END:VCALENDAR
