BEGIN:VCALENDAR
VERSION:2.0
PRODID:-//ChamberMaster//Event Calendar 2.0//EN
METHOD:PUBLISH
X-PUBLISHED-TTL:P3D
REFRESH-INTERVAL:P3D
CALSCALE:GREGORIAN
BEGIN:VEVENT
DTSTART:20160605T130000Z
DTEND:20160605T183000Z
X-MICROSOFT-CDO-ALLDAYEVENT:FALSE
SUMMARY:Antique Bottle Show and Sale
DESCRIPTION:Antique and collectible bottles for viewing and sale. Wide range of shapes\, colors\, and values. The "Saratoga Show\," as it has been called for many years\, draws dealers and collectors from throughout the country\, and serves as the main annual fundraiser for the National Bottle Museum.
X-ALT-DESC;FMTTYPE=text/html:Antique and collectible bottles for viewing and sale. Wide range of shapes\, colors\, and values. The &quot\;Saratoga Show\,&quot\; as it has been called for many years\, draws dealers and collectors from throughout the country\, and serves as the main annual fundraiser for the National Bottle Museum.
LOCATION:Saratoga County Fairgrounds\, 162 Prospect St.\, Ballston Spa\, NY 12020
UID:e.2254.16413
SEQUENCE:3
DTSTAMP:20260421T080704Z
URL:https://chamber.saratoga.org/events/details/antique-bottle-show-and-sale-06-05-2016-16413
END:VEVENT

END:VCALENDAR
