BEGIN:VCALENDAR
VERSION:2.0
PRODID:-//ChamberMaster//Event Calendar 2.0//EN
METHOD:PUBLISH
X-PUBLISHED-TTL:P3D
REFRESH-INTERVAL:P3D
CALSCALE:GREGORIAN
BEGIN:VEVENT
DTSTART:20140913T120000Z
DTEND:20140913T180000Z
X-MICROSOFT-CDO-ALLDAYEVENT:FALSE
SUMMARY:Annual Saratoga Senior Center Open House! - 09/13/2014
DESCRIPTION:Heard of us but want to learn more? Explore all the Center has to offerPlease join us for the Annual Saratoga Senior Center Open House! Saturday\, September 13th from 10-4 at 5 Williams Street. Heard of us but want to learn more? Have a family member or friend who may be interested in joining? Explore all the Center has to offer - try out exercise classes\, meet service providers and take a tour!  We offer many fabulous trips\, programs and services for adults ages 50 and up. EVENT IS FREE AND OPEN TO THE PUBLIC.\n This family-friendly day includes:\n\nFREE ICE CREAM SUNDAES BY STEWART'S SHOPS!\nLive Music by Saratoga Springs High School Students: 11:30\nLive Music by Jeff Walton and Tim Wechgelaer: 1:00\nCooking Demo "Smoothies with Siobhan": 10:30 Join Siobhan for a free cooking demo!\nFamily Fun "Sculpy Clay" Art Project: 11:00 kids\, parents\, grandparents create a fun art project out of Sculpy Clay!\nLearn to play MahJong at 11\nSaratoga History & Stories with Charles Kuenzel: 2:30\nExercise Class Demos:  Zumba@10:30 - Yoga@11:00 - Osteo@11:30 & 1 - Meditation@11:30\nService Providers with free information for all: Blood pressure clinic\, Wesley Community Programming Info\, Home Helpers Home Care Services and MVP Insurance Information\nInformation on all the fun & reasonably priced trips offered to local landmarks\, US Sites of Interest\, International Travel and more!\n\nThe event is sponsored by Annese & Associates\, Inc.\, MVP and Stewart's Shops. \n For more information\, call the Center at 584-1621 or visit www.saratogaseniorcenter.org
X-ALT-DESC;FMTTYPE=text/html:<p>Heard of us but want to learn more? Explore all the Center has to offer</p><p><span style="font-size: medium\;"><span style="font-family: Times New Roman\;">Please join us for the Annual Saratoga Senior Center Open House! Saturday\, September 13th from 10-4 at 5 Williams Street. Heard of us but want to learn more? Have a family member or friend who may be interested in joining? Explore all the Center has to offer - try out exercise classes\, meet service providers and take a tour!&nbsp\;&nbsp\;We offer many fabulous trips\, programs and services for adults ages 50 and up. EVENT IS FREE AND OPEN TO THE PUBLIC.</span></span></p>\n<p><span style="font-size: medium\;"><span style="font-family: Times New Roman\;">&nbsp\;</span></span><span style="font-size: medium\;"><span style="font-family: Times New Roman\;">This family-friendly day includes:</span></span></p>\n<ul>\n<li><span style="font-size: medium\;"><span style="font-family: Times New Roman\;">FREE ICE CREAM SUNDAES BY STEWART'S SHOPS!</span></span></li>\n<li><span style="font-size: medium\;"><span style="font-family: Times New Roman\;">Live Music by Saratoga Springs High School Students: 11:30</span></span></li>\n<li><span style="font-size: medium\;"><span style="font-family: Times New Roman\;">Live Music by Jeff Walton and Tim Wechgelaer: 1:00</span></span></li>\n<li><span style="font-size: medium\;"><span style="font-family: Times New Roman\;">Cooking Demo "Smoothies with Siobhan": 10:30 Join Siobhan for a free cooking demo!</span></span></li>\n<li><span style="font-size: medium\;"><span style="font-family: Times New Roman\;">Family Fun "Sculpy Clay" Art Project: 11:00 kids\, parents\, grandparents create a fun art project out of Sculpy Clay!</span></span></li>\n<li><span style="font-size: medium\;"><span style="font-family: Times New Roman\;">Learn to play MahJong at 11</span></span></li>\n<li><span style="font-size: medium\;"><span style="font-family: Times New Roman\;">Saratoga History &amp\; Stories with Charles Kuenzel: 2:30</span></span></li>\n<li><span style="font-size: medium\;"><span style="font-family: Times New Roman\;">Exercise Class Demos:&nbsp\; Zumba@10:30 - Yoga@11:00 - Osteo@11:30 &amp\; 1 - Meditation@11:30</span></span></li>\n<li><span style="font-size: medium\;"><span style="font-family: Times New Roman\;">Service Providers with&nbsp\;free information for all: Blood pressure clinic\, Wesley Community Programming Info\, Home Helpers Home Care&nbsp\;Services and MVP Insurance Information</span></span></li>\n<li><span style="font-size: medium\;"><span style="font-family: Times New Roman\;">Information on all the fun &amp\; reasonably priced&nbsp\;trips offered to local landmarks\, US Sites of Interest\, International Travel and more!</span></span></li>\n</ul>\n<p><span style="font-size: medium\;"><span style="font-family: Times New Roman\;">The event is sponsored by Annese &amp\; Associates\, Inc.\, MVP and Stewart's Shops. </span></span></p>\n<p><span style="font-size: medium\; font-family: Times New Roman\;">&nbsp\;</span><span style="font-size: medium\; font-family: Times New Roman\;">For more information\, call the Center at 584-1621 or visit </span><a href="http://www.saratogaseniorcenter.org/" target="_blank"><span style="font-size: medium\; font-family: Times New Roman\; color: #0000ff\;">www.saratogaseniorcenter.org</span></a></p>
LOCATION:Senior Citizens Center of Saratoga Springs
UID:e.2254.3578
SEQUENCE:3
DTSTAMP:20260424T111048Z
URL:https://chamber.saratoga.org/events/details/annual-saratoga-senior-center-open-house-09-13-2014-09-13-2014-3578
END:VEVENT

END:VCALENDAR
