BEGIN:VCALENDAR
VERSION:2.0
PRODID:-//ChamberMaster//Event Calendar 2.0//EN
METHOD:PUBLISH
X-PUBLISHED-TTL:P3D
REFRESH-INTERVAL:P3D
CALSCALE:GREGORIAN
BEGIN:VEVENT
DTSTART:20150329T170000Z
DTEND:20150329T210000Z
X-MICROSOFT-CDO-ALLDAYEVENT:FALSE
SUMMARY:Annual Polka Benefit - 03/29/2015
DESCRIPTION:Annual Polka Event to Benefit Saratoga BridgesMarch 29\, 2015   Annual Polka Benefit\n2-6pm\nHeld at the Saratoga Springs Knights of Columbus Hall\, this event features entertainment provided by the Polka Country Musicians\, a high energy Polka band from Jewett City\, CT\, raffles\, dancing and great food!  It is a fun day for the whole family. For advance tickets and special reserved seating\, contact Steve and Cathy Coblish at (518) 899-3061 or e-mail scoblish@nycap.rr.com.
X-ALT-DESC;FMTTYPE=text/html:<p>Annual Polka Event to Benefit Saratoga Bridges</p><p style="text-align: justify\;"><strong><span style="font-family: Arial\, sans-serif\;">March 29\, 2015 &ndash\; Annual Polka Benefit</span></strong></p>\n<p style="text-align: justify\;"><em><span style="font-family: Arial\, sans-serif\;">2-6pm</span></em></p>\n<p style="text-align: justify\;"><span style="font-family: Arial\, sans-serif\; font-size: 12pt\;">Held at the Saratoga Springs Knights of Columbus Hall\, this event features entertainment provided by the Polka Country Musicians\, a high energy Polka band from Jewett City\, CT\, raffles\, dancing and great food!&nbsp\; It is a fun day for the whole family.&nbsp\;For advance tickets and special reserved seating\, contact Steve and Cathy Coblish at (518) 899-3061 or e-mail scoblish@nycap.rr.com. </span></p>
LOCATION:Knights of Columbus
UID:e.2254.1275
SEQUENCE:3
DTSTAMP:20260423T225844Z
URL:https://chamber.saratoga.org/events/details/annual-polka-benefit-03-29-2015-03-29-2015-1275
END:VEVENT

END:VCALENDAR
