BEGIN:VCALENDAR
VERSION:2.0
PRODID:-//ChamberMaster//Event Calendar 2.0//EN
METHOD:PUBLISH
X-PUBLISHED-TTL:P3D
REFRESH-INTERVAL:P3D
CALSCALE:GREGORIAN
BEGIN:VEVENT
DTSTART:20161213T230000Z
DTEND:20161214T013000Z
X-MICROSOFT-CDO-ALLDAYEVENT:FALSE
SUMMARY:Annual Meeting\, Holiday Reception\, and Photography Show
DESCRIPTION:The annual meeting is an opportunity for everyone to come together and learn about the successes of WWPP during the past year and our plans for the future. Following the annual meeting will be our holiday reception with homemade refreshments to enjoy. It will also be the opening night of our fifth annual photography show\, giving you a great chance to see these beautiful pictures of the Preserve & Park on display for the first time. Come for the meeting and stay for the reception or just drop in to see the photos and have a snack. The meeting and reception will be held at the Wilton Wildlife Preserve & Park Office at 80 Scout Road.
X-ALT-DESC;FMTTYPE=text/html:The annual meeting is an opportunity for everyone to come together and learn about the successes of WWPP during the past year and our plans for the future. Following the annual meeting will be our holiday reception with homemade refreshments to enjoy. It will also be the opening night of our fifth annual photography show\, giving you a great chance to see these beautiful pictures of the Preserve &amp\; Park on display for the first time. Come for the meeting and stay for the reception or just drop in to see the photos and have a snack. The meeting and reception will be held at the Wilton Wildlife Preserve &amp\; Park Office at 80 Scout Road.
LOCATION:Wilton Wildlife Preserve and Park Office at 80 Scout Road\, Gansevoort\, NY 12831
UID:e.2254.20774
SEQUENCE:3
DTSTAMP:20260420T184455Z
URL:https://chamber.saratoga.org/events/details/annual-meeting-holiday-reception-and-photography-show-20774
END:VEVENT

END:VCALENDAR
