BEGIN:VCALENDAR
VERSION:2.0
PRODID:-//ChamberMaster//Event Calendar 2.0//EN
METHOD:PUBLISH
X-PUBLISHED-TTL:P3D
REFRESH-INTERVAL:P3D
CALSCALE:GREGORIAN
BEGIN:VEVENT
DTSTART:20140703T020000Z
DTEND:20140703T020000Z
X-MICROSOFT-CDO-ALLDAYEVENT:FALSE
SUMMARY:Annual Independence Day Celebration/ Fireworks - 07/02/2014
DESCRIPTION:Independence Day Celebration at the Saratoga Casino  Live harness racing at 5p.m.\, fireworks 9:15
X-ALT-DESC;FMTTYPE=text/html:<p>Independence Day Celebration at the Saratoga Casino & Raceway</p><p><em><br /></em>&nbsp\;Live harness racing at 5p.m.\, fireworks 9:15</p>
LOCATION:Saratoga Casino and Raceway
UID:e.2254.3244
SEQUENCE:3
DTSTAMP:20260424T192821Z
URL:https://chamber.saratoga.org/events/details/annual-independence-day-celebration-fireworks-07-02-2014-07-02-2014-3244
END:VEVENT

END:VCALENDAR
