BEGIN:VCALENDAR
VERSION:2.0
PRODID:-//ChamberMaster//Event Calendar 2.0//EN
METHOD:PUBLISH
X-PUBLISHED-TTL:P3D
REFRESH-INTERVAL:P3D
CALSCALE:GREGORIAN
BEGIN:VEVENT
DTSTART:20161231T203000Z
DTEND:20161231T050000Z
X-MICROSOFT-CDO-ALLDAYEVENT:FALSE
SUMMARY:Annual First Night Saratoga 5K Run
DESCRIPTION:First Night Saratoga 5K participants receive a $5 discount off the purchase of their First Night buttons when they are purchased in conjunction with your race registration!Annual First Night Saratoga 5K Run \n\nDecember 31\, 2017 at 5:30pm\n\nSkidmore College Athletic Complex\n\nSaratoga Springs\, NY\n\nStart and finish on the beautiful Skidmore campus. The first   mile is a gradual uphill on the perimeter road. The course exits the campus at Clinton Avenue and continues to Greenfield Avenue\, continuing up North Broadway and back to campus. This is a moderately challenging course\, including both hills and downgrades.\n\nLimited to 1\,500 Runners: Due to the overwhelming success of this run\, and having to close-out registration several years in a row\, there will be no day of race registration.\n\nCheck-In: Packet pick-up 3:30 to 5:00 p.m. the day of the race at Skidmore College Athletic Complex. Parking\, restrooms\, and showers are available. Refreshments after the race.\n\nThe race will be timed by ARE Event Productions using the ChronoTrack B-Tag. This is a small and flat chip that comes affixed to the back of your bib. You must wear your bib on your outer-most layer and it must not be altered in any way. Do not flatten\, bend\, nor crease your bib. These chips do not get returned\, making for a smooth and easy finishing process. Results will be immediately available at www.AREEP.com following the event.\n\nAwards: To the top three overall male and female finishers\, and top three male and female finishers in each 5-year age division. No duplicate awards.\n\nShirts: All registered runners will receive a limited edition First Night Saratoga moisture-wicking shirt.\n\nFinisher Medals: All race finishers will receive a commemorative First Night Saratoga medal.\n\nRules of Competition: Due to the hour of the race\, anyone with dogs or carriages is prohibited from running. We reserve the right to cancel the race due to weather conditions that cause the running surface to be hazardous to the runners' safety.\n\nPrice: Race registration is $25 through Thanksgiving.  After Thanksgiving it increases to $30.\n\nEntry fees are nonrefundable and non-transferable.\n\nCome Downtown: leave your car in place at Skidmore after the 5k roadrace and grab a free bus downtown to enjoy the rest of First Night!
X-ALT-DESC;FMTTYPE=text/html:<p><strong>First Night Saratoga 5K participants receive a $5 discount off the purchase of their First Night buttons when they are purchased in conjunction with your race registration!Annual First Night Saratoga 5K Run&nbsp\;</strong></p>\n\n<p><strong>December 31\, 2017&nbsp\;at 5:30pm</strong><br />\n<strong>Skidmore College Athletic Complex</strong><br />\nSaratoga Springs\, NY</p>\n\n<p>Start and finish on the beautiful Skidmore campus. The first &frac34\; mile is a gradual uphill on the perimeter road. The course exits the campus at Clinton Avenue and continues to Greenfield Avenue\, continuing up North Broadway and back to campus. This is a moderately challenging course\, including both hills and downgrades.</p>\n\n<p>Limited to 1\,500 Runners: Due to the overwhelming success of this run\, and having to close-out registration several years in a row\, <strong>there will be no day of race registration</strong>.</p>\n\n<p><strong>Check-In:</strong> Packet pick-up 3:30 to 5:00 p.m. the day of the race at Skidmore College Athletic Complex. Parking\, restrooms\, and showers are available. Refreshments after the race.</p>\n\n<p>The race will be timed by ARE Event Productions using the ChronoTrack B-Tag. This is a small and flat chip that comes affixed to the back of your bib. You must wear your bib on your outer-most layer and it must not be altered in any way. Do not flatten\, bend\, nor crease your bib. These chips do not get returned\, making for a smooth and easy finishing process. Results will be immediately available at <a href="http://www.areep.com/"><font color="#0066cc">www.AREEP.com</font></a> following the event.</p>\n\n<p><strong>Awards: </strong>To the top three overall male and female finishers\, and top three male and female finishers in each 5-year age division. No duplicate awards.</p>\n\n<p><strong>Shirts: </strong>All registered runners will receive a limited edition First Night Saratoga moisture-wicking shirt.</p>\n\n<p><strong>Finisher Medals: </strong>All race finishers will receive a commemorative First Night Saratoga medal.</p>\n\n<p><strong>Rules of Competition: </strong>Due to the hour of the race\, anyone with dogs or carriages is prohibited from running. We reserve the right to cancel the race due to weather conditions that cause the running surface to be hazardous to the runners&rsquo\; safety.</p>\n\n<p><strong>Price:&nbsp\;</strong>Race registration is $25 through Thanksgiving.&nbsp\; After Thanksgiving it increases to $30.</p>\n\n<p><em>Entry fees are nonrefundable and non-transferable.</em></p>\n\n<p><strong>Come Downtown:&nbsp\;</strong><span style="background-color: transparent\;">leave your car in place at Skidmore after the 5k roadrace and grab a free bus downtown to enjoy the rest of First Night!</span></p>\n
LOCATION:Skidmore College Athletic Complex Saratoga Springs\, NY
UID:e.2254.1011
SEQUENCE:3
DTSTAMP:20260420T185629Z
URL:https://chamber.saratoga.org/events/details/annual-first-night-saratoga-5k-run-12-31-2016-1011
END:VEVENT

END:VCALENDAR
