BEGIN:VCALENDAR
VERSION:2.0
PRODID:-//ChamberMaster//Event Calendar 2.0//EN
METHOD:PUBLISH
X-PUBLISHED-TTL:P3D
REFRESH-INTERVAL:P3D
CALSCALE:GREGORIAN
BEGIN:VEVENT
DTSTART:20150920T140000Z
DTEND:20150920T190000Z
X-MICROSOFT-CDO-ALLDAYEVENT:FALSE
SUMMARY:Anniversary Encampment
DESCRIPTION:Marking the 238th anniversary of the Battles of Saratoga\, come explore the lives of men\, women and children of the American Revolution: learn the soldiers? musket drill\, smell the aromas of open-fire cooking\, hear cannons and musket firings\, take part in a scouting mission or help decide a court martial! Event is free\, but battlefield entrance fees apply. Wreath laying by Daughters of the American Revolution and Sons of the American Revolution. All are welcome! 2 PM
X-ALT-DESC;FMTTYPE=text/html:Marking the 238th anniversary of the Battles of Saratoga\, come explore the lives of men\, women and children of the American Revolution: learn the soldiers? musket drill\, smell the aromas of open-fire cooking\, hear cannons and musket firings\, take part in a scouting mission or help decide a court martial! Event is free\, but battlefield entrance fees apply. Wreath laying by Daughters of the American Revolution and Sons of the American Revolution. All are welcome! 2 PM
LOCATION:Saratoga Battlefield Saratoga National Historical Park
UID:e.2254.6191
SEQUENCE:3
DTSTAMP:20260423T003653Z
URL:https://chamber.saratoga.org/events/details/anniversary-encampment-09-20-2015-6191
END:VEVENT

END:VCALENDAR
