BEGIN:VCALENDAR
VERSION:2.0
PRODID:-//ChamberMaster//Event Calendar 2.0//EN
METHOD:PUBLISH
X-PUBLISHED-TTL:P3D
REFRESH-INTERVAL:P3D
CALSCALE:GREGORIAN
BEGIN:VEVENT
DTSTART:20150919T130000Z
DTEND:20150919T200000Z
X-MICROSOFT-CDO-ALLDAYEVENT:FALSE
SUMMARY:Anniversary Encampment
DESCRIPTION:Marking the 238th anniversary of the Battles of Saratoga\, come explore the lives of men\, women and children of the American Revolution: learn the soldiers? musket drill\, smell the aromas of open-fire cooking\, hear cannons and musket firings\, take part in a scouting mission or help decide a court martial!  Event is free\, but battlefield entrance fees apply.                           \n\n                ? Camps open   Saturday\, 9am ? 4pm\;  Sunday\, 10am ? 3pm\n\n                ? Wreath laying by Daughters of the American Revolution andSons of the American Revolution.  All are welcome!     Sunday\, 2pm
X-ALT-DESC;FMTTYPE=text/html:<p style="line-height: 120%\; vertical-align: middle\;"><span style="line-height: 120%\; font-family: Georgia\, serif\; font-size: 10pt\;">Marking the 238th anniversary of the Battles of Saratoga\, come explore the lives of men\, women and children of the American Revolution: learn the soldiers? musket drill\, smell the aromas of open-fire cooking\, hear cannons and musket firings\, take part in a scouting mission or help decide a court martial!&nbsp\; </span><span style="line-height: 120%\; font-family: Georgia\, serif\; font-size: 10pt\;">Event is free\, but battlefield entrance fees apply.</span><span style="line-height: 120%\; font-family: Georgia\, serif\; font-size: 10pt\;">&nbsp\;&nbsp\;&nbsp\;&nbsp\;&nbsp\;&nbsp\;&nbsp\;&nbsp\;&nbsp\;&nbsp\; &nbsp\;&nbsp\;&nbsp\;&nbsp\;&nbsp\;&nbsp\;&nbsp\;&nbsp\;&nbsp\;&nbsp\;&nbsp\;&nbsp\;&nbsp\;&nbsp\;&nbsp\; </span></p>\n\n<p style="line-height: 120%\; vertical-align: middle\;"><span style="line-height: 120%\; font-family: Georgia\, serif\; font-size: 10pt\;">&nbsp\;&nbsp\;&nbsp\;&nbsp\;&nbsp\;&nbsp\;&nbsp\;&nbsp\;&nbsp\;&nbsp\;&nbsp\;&nbsp\;&nbsp\;&nbsp\;&nbsp\; </span><span style="line-height: 120%\; font-family: Georgia\, serif\; font-size: 10pt\;">?</span><span style="line-height: 120%\; font-family: Georgia\, serif\; font-size: 10pt\;"> Camps open &nbsp\;<strong>&nbsp\;</strong>Saturday\, 9am ? 4pm\;&nbsp\; Sunday\, 10am ? 3pm</span></p>\n\n<p style="line-height: 120%\; vertical-align: middle\;"><span style="line-height: 120%\; font-family: Georgia\, serif\; font-size: 10pt\;">&nbsp\;&nbsp\;&nbsp\;&nbsp\;&nbsp\;&nbsp\;&nbsp\;&nbsp\;&nbsp\;&nbsp\;&nbsp\;&nbsp\;&nbsp\;&nbsp\;&nbsp\; </span><span style="line-height: 120%\; font-family: Georgia\, serif\; font-size: 10pt\;">?</span><span style="line-height: 120%\; font-family: Georgia\, serif\; font-size: 10pt\;"> Wreath laying by Daughters of the American Revolution </span><span style="line-height: 120%\; font-family: Georgia\, serif\; font-size: 10pt\;">and</span><span style="line-height: 120%\; font-family: Georgia\, serif\; font-size: 10pt\;">Sons</span><span style="line-height: 120%\; font-family: Georgia\, serif\; font-size: 10pt\;"> of the American Revolution.&nbsp\; All are welcome! &nbsp\; &nbsp\; </span><span style="line-height: 120%\; font-family: Georgia\, serif\; font-size: 10pt\;">Sunday\, 2pm</span></p>\n
LOCATION:Saratoga National Historical Park
UID:e.2254.4891
SEQUENCE:3
DTSTAMP:20260423T003733Z
URL:https://chamber.saratoga.org/events/details/anniversary-encampment-09-19-2015-4891
END:VEVENT

END:VCALENDAR
