BEGIN:VCALENDAR
VERSION:2.0
PRODID:-//ChamberMaster//Event Calendar 2.0//EN
METHOD:PUBLISH
X-PUBLISHED-TTL:P3D
REFRESH-INTERVAL:P3D
CALSCALE:GREGORIAN
BEGIN:VEVENT
DTSTART:20170107T160000Z
DTEND:20170107T170000Z
X-MICROSOFT-CDO-ALLDAYEVENT:FALSE
SUMMARY:Animal Tracking Winter Walk
DESCRIPTION:Join us for a guided hike all about winter exploration and discovery! Look for animal tracks and learn about different plant and animal adaptations for winter survival. Meet at the kiosk in Parking Lot 1 at Camp Saratoga on Scout Road and dress for the weather. Snowshoes are available for rental 30 minutes before the program\; free for members and $3 for non-members. If there is no snow the program will take place without snowshoes. Call or email to register.
X-ALT-DESC;FMTTYPE=text/html:Join us for a guided hike all about winter exploration and discovery! Look for animal tracks and learn about different plant and animal adaptations for winter survival. Meet at the kiosk in Parking Lot 1 at Camp Saratoga on Scout Road and dress for the weather. Snowshoes are available for rental 30 minutes before the program\; free for members and $3 for non-members. If there is no snow the program will take place without snowshoes. Call or email to register.
LOCATION:Camp Saratoga on Scout Road\, Parking Lot 1
UID:e.2254.21399
SEQUENCE:3
DTSTAMP:20260420T151457Z
URL:https://chamber.saratoga.org/events/details/animal-tracking-winter-walk-21399
END:VEVENT

END:VCALENDAR
