BEGIN:VCALENDAR
VERSION:2.0
PRODID:-//ChamberMaster//Event Calendar 2.0//EN
METHOD:PUBLISH
X-PUBLISHED-TTL:P3D
REFRESH-INTERVAL:P3D
CALSCALE:GREGORIAN
BEGIN:VEVENT
DTSTART:20140921T130000Z
DTEND:20140921T160000Z
X-MICROSOFT-CDO-ALLDAYEVENT:FALSE
SUMMARY:Animal Hospital-Open House - 09/21/2014
DESCRIPTION:Guided "Passport " Tours\, Raffle Prizes\, Saratoga County Animal Shelter Adoption EventEveryone is welcome to join us for Open House at Animal Health Center 1656 Rt 9\, Clifton Park\, NY. Sunday September 21st\, from 11am-2pm\nMeet the Veterinarians and participate in Guided Tours\, Raffle Prizes and receive a Gift Bag\, Free Exam Certificates\, Educational Stations\, Search and Rescue Demonstrations\, Adoption Event with Saratoga County Animal Shelter and Refreshments.\n Prizes include: Ipad Mini\, Wellness Packages\, Select Pet Foods\, Flea and Tick Preventatives
X-ALT-DESC;FMTTYPE=text/html:<p>Guided "Passport " Tours\, Raffle Prizes\, Saratoga County Animal Shelter Adoption Event</p><P><STRONG>Everyone</STRONG> is welcome to join us for&nbsp\;Open&nbsp\;House&nbsp\;at Animal Health Center 1656 Rt 9\, Clifton Park\, NY. Sunday September 21st\, from 11am-2pm</P>\n<P>Meet the Veterinarians&nbsp\;and participate in Guided Tours\, Raffle Prizes and receive a Gift Bag\, Free Exam Certificates\, Educational Stations\, Search and Rescue Demonstrations\, Adoption Event with Saratoga County Animal&nbsp\;Shelter and&nbsp\;Refreshments.</P>\n<P>&nbsp\;Prizes include: Ipad Mini\,&nbsp\;Wellness Packages\, Select Pet Foods\, Flea&nbsp\;and Tick Preventatives&nbsp\;</P>
LOCATION:Animal Health Center
UID:e.2254.3523
SEQUENCE:3
DTSTAMP:20260424T123902Z
URL:https://chamber.saratoga.org/events/details/animal-hospital-open-house-09-21-2014-09-21-2014-3523
END:VEVENT

END:VCALENDAR
