BEGIN:VCALENDAR
VERSION:2.0
PRODID:-//ChamberMaster//Event Calendar 2.0//EN
METHOD:PUBLISH
X-PUBLISHED-TTL:P3D
REFRESH-INTERVAL:P3D
CALSCALE:GREGORIAN
BEGIN:VEVENT
DTSTART:20161008T160000Z
DTEND:20161008T200000Z
X-MICROSOFT-CDO-ALLDAYEVENT:FALSE
SUMMARY:Angel Names Association Memorial Walk
DESCRIPTION:Angel Names Association (ANA) will hold its 11th Annual Memorial Walk on Saturday\, Oct. 8 at the Saratoga State Spa Park in Saratoga Springs\, NY. Held during October   National Pregnancy and Infant Death Month   the walk's goal is to increase awareness and provide support to all those touched by the loss of a child. Registration begins at noon at the Columbia Pavilion and the walk starts at 1:30 pm. The day includes music by Tailspin\, children's crafts\, refreshments\, food items provided by The Long Horn Restaurant and Pub\, a nondenominational memorial ceremony\, and wonderful opportunities to remember a child whose life touched yours. Join us at this uplifting\, free family event on Saturday\, Oct. 8. For more information or to register\, please visit Angel Names Association on Facebook or at www.angelnames.org\, or call 518-654-2411.
X-ALT-DESC;FMTTYPE=text/html:Angel Names Association (ANA) will hold its 11th Annual Memorial Walk on Saturday\, Oct. 8 at the Saratoga State Spa Park in Saratoga Springs\, NY. Held during October &ndash\; National Pregnancy and Infant Death Month &ndash\; the walk&rsquo\;s goal is to increase awareness and provide support to all those touched by the loss of a child. Registration begins at noon at the Columbia Pavilion and the walk starts at 1:30 pm. The day includes music by Tailspin\, children&rsquo\;s crafts\, refreshments\, food items provided by The Long Horn Restaurant and Pub\, a nondenominational memorial ceremony\, and wonderful opportunities to remember a child whose life touched yours. Join us at this uplifting\, free family event on Saturday\, Oct. 8. For more information or to register\, please visit Angel Names Association on Facebook or at www.angelnames.org\, or call 518-654-2411.
LOCATION:Saratoga Spa State Park
UID:e.2254.19503
SEQUENCE:3
DTSTAMP:20260420T232002Z
URL:https://chamber.saratoga.org/events/details/angel-names-association-memorial-walk-19503
END:VEVENT

END:VCALENDAR
