BEGIN:VCALENDAR
VERSION:2.0
PRODID:-//ChamberMaster//Event Calendar 2.0//EN
METHOD:PUBLISH
X-PUBLISHED-TTL:P3D
REFRESH-INTERVAL:P3D
CALSCALE:GREGORIAN
BEGIN:VEVENT
DTSTART:20151025T010000Z
DTEND:20151025T030000Z
X-MICROSOFT-CDO-ALLDAYEVENT:FALSE
SUMMARY:Andrew C Izzo Memorial 5K Run/Walk
DESCRIPTION:1st Annual 5K Run/Walk to Benefit the Andrew C. Izzo Memorial Fund is hosting a 5K Run/Walk on Saturday\, October 24th 2015 at 9AM. The funds raised through this event are used to provide a scholarship for a graduating Galway senior who is compassionate\, caring and exemplifies the true meaning of teamwork just like Andy did. Another way the scholarship committee helps is by sponsoring awareness programs in the school that help to provide our teens with information about suicide\, bullying\, and other important topics.
X-ALT-DESC;FMTTYPE=text/html:1st Annual 5K Run/Walk to Benefit the Andrew C. Izzo Memorial Fund is hosting a 5K Run/Walk on Saturday\, October 24th 2015 at 9AM. The funds raised through this event are used to provide a scholarship for a graduating Galway senior who is compassionate\, caring and exemplifies the true meaning of teamwork just like Andy did. Another way the scholarship committee helps is by sponsoring awareness programs in the school that help to provide our teens with information about suicide\, bullying\, and other important topics.
LOCATION:Galway Town Bus Garage via Galway High School 5317 Sacandaga Road Galway\, NY 12074
UID:e.2254.12742
SEQUENCE:3
DTSTAMP:20260422T171602Z
URL:https://chamber.saratoga.org/events/details/andrew-c-izzo-memorial-5k-run-walk-10-24-2015-12742
END:VEVENT

END:VCALENDAR
