BEGIN:VCALENDAR
VERSION:2.0
PRODID:-//ChamberMaster//Event Calendar 2.0//EN
METHOD:PUBLISH
X-PUBLISHED-TTL:P3D
REFRESH-INTERVAL:P3D
CALSCALE:GREGORIAN
BEGIN:VEVENT
DTSTART:20150717T230000Z
DTEND:20150718T020000Z
X-MICROSOFT-CDO-ALLDAYEVENT:FALSE
SUMMARY:An Evening with Elvis
DESCRIPTION:An Evening with Elvis featuring Donny "Elvis" Romines July 17th\, 7-10PM at Saratoga-Wilton Elks Lodge #161\, 1 Elks Lane (Rt. 9). All proceeds to benefit the American Cancer Society. Raffles\, 50/50\, cash bar and food is available. For info call Helen at 518-745-7821. Tickets $15.00 at the door. Doors open at 6PM. Hope to see you there.
X-ALT-DESC;FMTTYPE=text/html:An Evening with Elvis featuring Donny &quot\;Elvis&quot\; Romines July 17th\, 7-10PM at Saratoga-Wilton Elks Lodge #161\, 1 Elks Lane (Rt. 9). All proceeds to benefit the American Cancer Society. Raffles\, 50/50\, cash bar and food is available. For info call Helen at 518-745-7821. Tickets $15.00 at the door. Doors open at 6PM. Hope to see you there.
LOCATION:Saratoga-Wilton Elks Lodge 1 Elks Lane 9t.9)
UID:e.2254.10052
SEQUENCE:3
DTSTAMP:20260423T040142Z
URL:https://chamber.saratoga.org/events/details/an-evening-with-elvis-07-17-2015-10052
END:VEVENT

END:VCALENDAR
