BEGIN:VCALENDAR
VERSION:2.0
PRODID:-//ChamberMaster//Event Calendar 2.0//EN
METHOD:PUBLISH
X-PUBLISHED-TTL:P3D
REFRESH-INTERVAL:P3D
CALSCALE:GREGORIAN
BEGIN:VEVENT
DTSTART:20161113T210000Z
DTEND:20161113T230000Z
X-MICROSOFT-CDO-ALLDAYEVENT:FALSE
SUMMARY:AN AFTERNOON OF MESSAGES WITH SPIRITUAL MEDIUM\, DREW CALI
DESCRIPTION:Drew Cali was born a natural Medium. After a series of life altering events his early thirties was no Drew was longer able to ignore his gifts and he set out on a path that would forever change his life. After attending the prestigious Arthur Findlay College of Mediumship and Intuitive Sciences in England Drew continues to work with and learn from mentors\, colleagues and the spirit world as well as from the people which he lovingly serves. Recognizing true personal development and spiritual growth begins with honor\, integrity and authenticity\; it is Drew's intention to assist people with opening their hearts and minds in order to realize their full potential of healing\, learning\, loving and living in the here and now. The event begins with music by Cosby Gibson from 4:00-4:30pm\, followed by a mediumship gallery of messages from 4:30-6:00pm. Tickets are $40 in advance and $50 at the door and can be purchased below or at the Universal Preservation Hall. For questions\, please contact Allison Karoly by phone at 917-697-6164\, or email at info@drewcali.com. Please note\, attendance does not guarantee a reading\, however group sessions are an excellent source of emotional healing\, forgiveness\, laughter\, and communion for all in attendance. For adults 18 years or older.
X-ALT-DESC;FMTTYPE=text/html:Drew Cali was born a natural Medium. After a series of life altering events his early thirties was no Drew was longer able to ignore his gifts and he set out on a path that would forever change his life. After attending the prestigious Arthur Findlay College of Mediumship and Intuitive Sciences in England Drew continues to work with and learn from mentors\, colleagues and the spirit world as well as from the people which he lovingly serves. Recognizing true personal development and spiritual growth begins with honor\, integrity and authenticity\; it is Drew&#39\;s intention to assist people with opening their hearts and minds in order to realize their full potential of healing\, learning\, loving and living in the here and now. The event begins with music by Cosby Gibson from 4:00-4:30pm\, followed by a mediumship gallery of messages from 4:30-6:00pm. Tickets are $40 in advance and $50 at the door and can be purchased below or at the Universal Preservation Hall. For questions\, please contact Allison Karoly by phone at 917-697-6164\, or email at info@drewcali.com. Please note\, attendance does not guarantee a reading\, however group sessions are an excellent source of emotional healing\, forgiveness\, laughter\, and communion for all in attendance. For adults 18 years or older.
LOCATION:Universal Preservation Hall\, 25 Washington Street Saratoga Springs NY 12866
UID:e.2254.20832
SEQUENCE:3
DTSTAMP:20260420T200946Z
URL:https://chamber.saratoga.org/events/details/an-afternoon-of-messages-with-spiritual-medium-drew-cali-20832
END:VEVENT

END:VCALENDAR
