BEGIN:VCALENDAR
VERSION:2.0
PRODID:-//ChamberMaster//Event Calendar 2.0//EN
METHOD:PUBLISH
X-PUBLISHED-TTL:P3D
REFRESH-INTERVAL:P3D
CALSCALE:GREGORIAN
BEGIN:VEVENT
DTSTART:20160330T130000Z
DTEND:20160330T160000Z
X-MICROSOFT-CDO-ALLDAYEVENT:FALSE
SUMMARY:An Adirondack Musical History Tour with Dan Berggren. #890-0330. 1/2 day.
DESCRIPTION:This workshop takes you from the shanties and kitchens through the fields\, forest\, and streams of the north country and is presented through discussion\, demonstration\, stories\, traditional and original songs\, and historic recordings. Dan Berggren has been collecting\, writing and performing songs of his Adirondack ancestral home in Essex County since 1975. His laid back "taking around the kitchen table" style has made him an Adirondack icon.
X-ALT-DESC;FMTTYPE=text/html:This workshop takes you from the shanties and kitchens through the fields\, forest\, and streams of the north country and is presented through discussion\, demonstration\, stories\, traditional and original songs\, and historic recordings. Dan Berggren has been collecting\, writing and performing songs of his Adirondack ancestral home in Essex County since 1975. His laid back &quot\;taking around the kitchen table&quot\; style has made him an Adirondack icon.
LOCATION:Adirondack Folk School\, 51 Main Street\, Lake Luzerne\, NY12046
UID:e.2254.15018
SEQUENCE:3
DTSTAMP:20260422T004216Z
URL:https://chamber.saratoga.org/events/details/an-adirondack-musical-history-tour-with-dan-berggren-890-0330-1-2-day-03-30-2016-15018
END:VEVENT

END:VCALENDAR
