BEGIN:VCALENDAR
VERSION:2.0
PRODID:-//ChamberMaster//Event Calendar 2.0//EN
METHOD:PUBLISH
X-PUBLISHED-TTL:P3D
REFRESH-INTERVAL:P3D
CALSCALE:GREGORIAN
BEGIN:VEVENT
DTSTART:20160810T200000Z
DTEND:20160810T220000Z
X-MICROSOFT-CDO-ALLDAYEVENT:FALSE
SUMMARY:American Standard "Beauty in Motion "
DESCRIPTION:We are inviting you to attend our American Standard "Beauty in Motion" tour\, held in our showroom. There will be a designer showcase truck featuring: AMERICAN STANDARD\, GROHE\, and DXV.\n\n\n\nPlease RSVP to Wendy at 518-472-9322
X-ALT-DESC;FMTTYPE=text/html:We are inviting you to attend our American Standard &quot\;Beauty in Motion&quot\; tour\, held in our showroom. There will be a designer showcase truck featuring: AMERICAN STANDARD\, GROHE\, and DXV.<br />\n<br />\nPlease RSVP to Wendy at 518-472-9322
LOCATION:FW Webb CO. 1 McCrea Hill Road Ballston Spa\, Ny 12020
UID:e.2254.17340
SEQUENCE:3
DTSTAMP:20260421T022658Z
URL:https://chamber.saratoga.org/events/details/american-standard-beauty-in-motion-08-10-2016-17340
END:VEVENT

END:VCALENDAR
