BEGIN:VCALENDAR
VERSION:2.0
PRODID:-//ChamberMaster//Event Calendar 2.0//EN
METHOD:PUBLISH
X-PUBLISHED-TTL:P3D
REFRESH-INTERVAL:P3D
CALSCALE:GREGORIAN
BEGIN:VEVENT
DTSTART:20150515T140000Z
DTEND:20150515T180000Z
X-MICROSOFT-CDO-ALLDAYEVENT:FALSE
SUMMARY:American Red Cross Blood Drive
DESCRIPTION:McMurry/TMG Mobile Blood Drive Event The American Red Cross Mobile Bus will be parked outside our lobby.
X-ALT-DESC;FMTTYPE=text/html:McMurry/TMG Mobile Blood Drive Event The American Red Cross Mobile Bus will be parked outside our lobby.
LOCATION:McMurry/TMG\; 19 Railroad Place\, Saratoga Springs\, NY 12866 Bus
UID:e.2254.7747
SEQUENCE:3
DTSTAMP:20260423T164012Z
URL:https://chamber.saratoga.org/events/details/american-red-cross-blood-drive-05-15-2015-7747
END:VEVENT

END:VCALENDAR
