BEGIN:VCALENDAR
VERSION:2.0
PRODID:-//ChamberMaster//Event Calendar 2.0//EN
METHOD:PUBLISH
X-PUBLISHED-TTL:P3D
REFRESH-INTERVAL:P3D
CALSCALE:GREGORIAN
BEGIN:VEVENT
DTSTART:20161002T000000Z
DTEND:20161002T030000Z
X-MICROSOFT-CDO-ALLDAYEVENT:FALSE
SUMMARY:Almost Famous Costume Party
DESCRIPTION:It's all happening! Ye Olde Wishin' Shoppe is celebrating their new store expansion with an "Almost Famous" themed grand re-opening costume party. 70s attire is highly encouraged\, along with dressing as your favorite character from the movie. If anyone needs help with what to wear\, we'll help you find something in our shoppe! Live music by Asa Morris and the Mess at 9pm Free admission but we will be accepting donations at the door for the Saratoga County Animal Shelter Appetizers and refreshments will be provided\, but guests are encouraged to BYOB as the champagne & beer is expected to run out fast! \;-)
X-ALT-DESC;FMTTYPE=text/html:It&#39\;s all happening! Ye Olde Wishin&#39\; Shoppe is celebrating their new store expansion with an &quot\;Almost Famous&quot\; themed grand re-opening costume party. 70s attire is highly encouraged\, along with dressing as your favorite character from the movie. If anyone needs help with what to wear\, we&#39\;ll help you find something in our shoppe! Live music by Asa Morris and the Mess at 9pm Free admission but we will be accepting donations at the door for the Saratoga County Animal Shelter Appetizers and refreshments will be provided\, but guests are encouraged to BYOB as the champagne &amp\; beer is expected to run out fast! \;-)
LOCATION:Ye Olde Wishin' Shoppe 19 Low St\, Side Entrance Ballston Spa\, NY 12020
UID:e.2254.20716
SEQUENCE:3
DTSTAMP:20260420T214418Z
URL:https://chamber.saratoga.org/events/details/almost-famous-costume-party-20716
END:VEVENT

END:VCALENDAR
