BEGIN:VCALENDAR
VERSION:2.0
PRODID:-//ChamberMaster//Event Calendar 2.0//EN
METHOD:PUBLISH
X-PUBLISHED-TTL:P3D
REFRESH-INTERVAL:P3D
CALSCALE:GREGORIAN
BEGIN:VEVENT
DTSTART:20150315T223000Z
DTEND:20150316T013000Z
X-MICROSOFT-CDO-ALLDAYEVENT:FALSE
SUMMARY:ALES & RAILS Dinner Train
DESCRIPTION:Forget March Madness   kick off your St. Patrick's Day weekend in style on the fun-filled SNCR Ales & Rails dinner train.  This Irish-themed event train will feature traditional Irish music and food\, complete with a 4-course dinner\, local beers from the area and a lively atmosphere.  Be sure to wear your green and bring your friends to take part in this festive event train.
X-ALT-DESC;FMTTYPE=text/html:Forget March Madness &ndash\; kick off your St. Patrick&rsquo\;s Day weekend in style on the fun-filled SNCR Ales &amp\; Rails dinner train. &nbsp\;This Irish-themed event train will feature traditional Irish music and food\, complete with a 4-course dinner\, local beers from the area and a lively atmosphere.&nbsp\; Be sure to wear your green and bring your friends to take part in this festive event train.
LOCATION:Saratoga North Creek Railroad
UID:e.2254.5466
SEQUENCE:3
DTSTAMP:20260423T214008Z
URL:https://chamber.saratoga.org/events/details/ales-rails-dinner-train-03-15-2015-5466
END:VEVENT

END:VCALENDAR
