BEGIN:VCALENDAR
VERSION:2.0
PRODID:-//ChamberMaster//Event Calendar 2.0//EN
METHOD:PUBLISH
X-PUBLISHED-TTL:P3D
REFRESH-INTERVAL:P3D
CALSCALE:GREGORIAN
BEGIN:VEVENT
DTSTART:20170225T150000Z
DTEND:20170225T200000Z
X-MICROSOFT-CDO-ALLDAYEVENT:FALSE
SUMMARY:Albany Capital Center Job Fair
DESCRIPTION:The Albany Capital Center\, the Times Union Center and Mazzone Hospitality will host a joint job fair on Saturday\, February 25\, at the Times Union Center. The Albany Capital Center will be looking to fill a variety of positions as the new facility prepares to officially open on March 1\, as will Mazzone Hospitality\, which serves as the exclusive caterer for the convention center. The full-time and part-time positions through the ACC and Times Union Center include guest services (ushers and ticket takers)\, security guards and housekeeping. Available positions with Mazzone Hospitality include on-call banquet servers\, bartenders\, bussers\, set up staff\, cooks and utility personnel. This job fair is free to attend and open to the public. Applicants are asked to report to the second level conference room located in the main entrance atrium of the Times Union Center. On spot interviews will be conducted. All interested candidates are asked to bring their resumes.
X-ALT-DESC;FMTTYPE=text/html:The Albany Capital Center\, the Times Union Center and Mazzone Hospitality will host a joint job fair on Saturday\, February 25\, at the Times Union Center. The Albany Capital Center will be looking to fill a variety of positions as the new facility prepares to officially open on March 1\, as will Mazzone Hospitality\, which serves as the exclusive caterer for the convention center. The full-time and part-time positions through the ACC and Times Union Center include guest services (ushers and ticket takers)\, security guards and housekeeping. Available positions with Mazzone Hospitality include on-call banquet servers\, bartenders\, bussers\, set up staff\, cooks and utility personnel. This job fair is free to attend and open to the public. Applicants are asked to report to the second level conference room located in the main entrance atrium of the Times Union Center. On spot interviews will be conducted. All interested candidates are asked to bring their resumes.
LOCATION:Times Union Center\, 51 S Pearl St\, Albany\, NY 12207
UID:e.2254.22880
SEQUENCE:3
DTSTAMP:20260420T115003Z
URL:https://chamber.saratoga.org/events/details/albany-capital-center-job-fair-22880
END:VEVENT

END:VCALENDAR
