BEGIN:VCALENDAR
VERSION:2.0
PRODID:-//ChamberMaster//Event Calendar 2.0//EN
METHOD:PUBLISH
X-PUBLISHED-TTL:P3D
REFRESH-INTERVAL:P3D
CALSCALE:GREGORIAN
BEGIN:VEVENT
DTSTART:20150730T210000Z
DTEND:20150730T220000Z
X-MICROSOFT-CDO-ALLDAYEVENT:FALSE
SUMMARY:AFTERNOON STROLL: PUPS FOR PRESERVATION!
DESCRIPTION:Enjoy an hour-long tour of historic North Broadway with your furry friend! Dog treats & water will be provided along the route. Pre-registration is requested by July 29th as space is limited Tour meets: NW Corner of North Broadway & 4th Street
X-ALT-DESC;FMTTYPE=text/html:Enjoy an hour-long tour of historic North Broadway with your furry friend! Dog treats &amp\; water will be provided along the route. Pre-registration is requested by July 29th as space is limited Tour meets: NW Corner of North Broadway &amp\; 4th Street
LOCATION:NW Corner of North Broadway & 4th Street
UID:e.2254.9988
SEQUENCE:3
DTSTAMP:20260423T040633Z
URL:https://chamber.saratoga.org/events/details/afternoon-stroll-pups-for-preservation-07-30-2015-9988
END:VEVENT

END:VCALENDAR
