BEGIN:VCALENDAR
VERSION:2.0
PRODID:-//ChamberMaster//Event Calendar 2.0//EN
METHOD:PUBLISH
X-PUBLISHED-TTL:P3D
REFRESH-INTERVAL:P3D
CALSCALE:GREGORIAN
BEGIN:VEVENT
DTSTART:20161119T003000Z
DTEND:20161119T040000Z
X-MICROSOFT-CDO-ALLDAYEVENT:FALSE
SUMMARY:After The Fire\, Inc. Fundraiser
DESCRIPTION:After The Fire\, Inc. presents the Not Too Far From Home Comedy Tour for a night of fundraising for those Saratoga County Residents that have suffered loss from fire in their home. A night of laughter\, with raffles to win great items\, while also supporting the Elks that will be offering a cash bar\, along with snacks - A great way to assist two great organizations at once!
X-ALT-DESC;FMTTYPE=text/html:After The Fire\, Inc. presents the Not Too Far From Home Comedy Tour for a night of fundraising for those Saratoga County Residents that have suffered loss from fire in their home. A night of laughter\, with raffles to win great items\, while also supporting the Elks that will be offering a cash bar\, along with snacks - A great way to assist two great organizations at once!
LOCATION:Saratoga-Wilton Elks Lodge #161 @ 1 Elks Ln\, Saratoga Springs\, NY 12866
UID:e.2254.21251
SEQUENCE:3
DTSTAMP:20260420T200640Z
URL:https://chamber.saratoga.org/events/details/after-the-fire-inc-fundraiser-21251
END:VEVENT

END:VCALENDAR
