BEGIN:VCALENDAR
VERSION:2.0
PRODID:-//ChamberMaster//Event Calendar 2.0//EN
METHOD:PUBLISH
X-PUBLISHED-TTL:P3D
REFRESH-INTERVAL:P3D
CALSCALE:GREGORIAN
BEGIN:VEVENT
DTSTART:20160423T170000Z
DTEND:20160423T200000Z
X-MICROSOFT-CDO-ALLDAYEVENT:FALSE
SUMMARY:Advanced Fly Tying with Paul Sinicki. #880-0423.
DESCRIPTION:This class is for those who are ready to extend their knowledge beyond the basics. You will learn fly tying skills\, techniques and tools\, and about the proper materials to prepare for any kind of fish or situation. Whether you fish our Adirondack rivers or lakes or not\, this class will introduce you to a variety of flies that are ready for action. Learn to tie wet flies\, dry flies\, streamers\, and patterns. You will get started with the materials required to create a wide variety of flies and advance through the vast array of fly tying possibilities. If you have the basic skills of tying flies\, this class will help hone your skills so you can bring home the keepers!
X-ALT-DESC;FMTTYPE=text/html:This class is for those who are ready to extend their knowledge beyond the basics. You will learn fly tying skills\, techniques and tools\, and about the proper materials to prepare for any kind of fish or situation. Whether you fish our Adirondack rivers or lakes or not\, this class will introduce you to a variety of flies that are ready for action. Learn to tie wet flies\, dry flies\, streamers\, and patterns. You will get started with the materials required to create a wide variety of flies and advance through the vast array of fly tying possibilities. If you have the basic skills of tying flies\, this class will help hone your skills so you can bring home the keepers!
LOCATION:Adirondack Folk School\, 51 Main Street\, Lake Luzerne\, NY 12846
UID:e.2254.15003
SEQUENCE:3
DTSTAMP:20260421T163817Z
URL:https://chamber.saratoga.org/events/details/advanced-fly-tying-with-paul-sinicki-880-0423-04-23-2016-15003
END:VEVENT

END:VCALENDAR
