BEGIN:VCALENDAR
VERSION:2.0
PRODID:-//ChamberMaster//Event Calendar 2.0//EN
METHOD:PUBLISH
X-PUBLISHED-TTL:P3D
REFRESH-INTERVAL:P3D
CALSCALE:GREGORIAN
BEGIN:VEVENT
DTSTART:20151113T000000Z
DTEND:20151113T030000Z
X-MICROSOFT-CDO-ALLDAYEVENT:FALSE
SUMMARY:Adult & Senior Center of Saratoga 60th Anniversary Gala
DESCRIPTION:The Adult and Senior Center of Saratoga is celebrating their 60th Diamond Anniversary with a Gala on November 12\, 2015\, 7 pm at the Canfield Casino in Saratoga Springs\, NY.  Tickets are $150 by November 6th\, or $175 at the door. A special Senior Ticket for $60 is available to members of the Saratoga Senior Center who are 60 years of age or older.  For more information about the 60th Diamond Anniversary Gala or to purchase tickets\, contact the Center at (518) 584-1621 or visit www.saratogaseniorcenter.org.
X-ALT-DESC;FMTTYPE=text/html:<span style="font-size: 12pt\;"><span style="font-family: calibri\,sans-serif\;"><span style="color: black\;">The Adult and Senior Center of Saratoga is celebrating their 60</span></span></span><sup><span style="font-size: 10pt\;"><span style="font-family: calibri\,sans-serif\;"><span style="color: black\;">th</span></span></span></sup><span style="font-size: 12pt\;"><span style="font-family: calibri\,sans-serif\;"><span style="color: black\;"> Diamond Anniversary with a Gala on November 12\, 2015\, 7 pm at the Canfield Casino in Saratoga Springs\, NY.&nbsp\;&nbsp\;Tickets are $150 by November 6</span></span></span><sup><span style="font-size: 10pt\;"><span style="font-family: calibri\,sans-serif\;"><span style="color: black\;">th</span></span></span></sup><span style="font-size: 12pt\;"><span style="font-family: calibri\,sans-serif\;"><span style="color: black\;">\, or $175 at the door. A special Senior Ticket for $60 is available to members of the Saratoga Senior Center who are 60 years of age or older. &nbsp\;For more information about the 60</span></span></span><sup><span style="font-size: 10pt\;"><span style="font-family: calibri\,sans-serif\;"><span style="color: black\;">th</span></span></span></sup><span style="font-size: 12pt\;"><span style="font-family: calibri\,sans-serif\;"><span style="color: black\;"> Diamond Anniversary Gala or to purchase tickets\, contact the Center at <a href="tel:%28518%29%20584-1621" target="_blank"><span style="color: rgb(0\, 0\, 255)\;">(518) 584-1621</span></a> or visit </span></span></span><span style="font-size: 12pt\;"><span style="font-family: times new roman\,serif\;"><a href="http://www.saratogaseniorcenter.org/" target="_blank"><span style="font-family: calibri\,sans-serif\;"><span style="color: rgb(0\, 0\, 255)\;">www.saratogaseniorcenter.org</span></span></a></span></span><span style="font-size: 12pt\;"><span style="font-family: calibri\,sans-serif\;"><span style="color: black\;">. </span></span></span><br clear="all" />\n&nbsp\;
LOCATION:Canfield Casino
UID:e.2254.6917
SEQUENCE:3
DTSTAMP:20260422T104407Z
URL:https://chamber.saratoga.org/events/details/adult-senior-center-of-saratoga-60th-anniversary-gala-11-12-2015-6917
END:VEVENT

END:VCALENDAR
