BEGIN:VCALENDAR
VERSION:2.0
PRODID:-//ChamberMaster//Event Calendar 2.0//EN
METHOD:PUBLISH
X-PUBLISHED-TTL:P3D
REFRESH-INTERVAL:P3D
CALSCALE:GREGORIAN
BEGIN:VEVENT
DTSTART:20150325T230000Z
DTEND:20150326T010000Z
X-MICROSOFT-CDO-ALLDAYEVENT:FALSE
SUMMARY:Adult Education - A Preview of Passover!
DESCRIPTION:The entire community is welcome to join Congregation Shaara Tfille/The Jewish Community Center of Saratoga Springs\, located at 84 Weibel Avenue\, as Rabbi/Cantor Kenneth Stuart Blatt presents an Adult Education class entitled A Preview of Passover on Wednesday\, March 25th at 7:00 p.m. Passover is the most observed Jewish holiday\, and the Seder is the most observed Jewish ritual of the entire Hebrew calendar. Rabbi Blatt will explore the celebration of this festive biblical holy day through the ages\, discuss some of the lesser known facts about Passover and present the beautiful symbolism of the Seder. For more information\, call 584-2370 or email saratogajcc@verizon.net.
X-ALT-DESC;FMTTYPE=text/html:The entire community is welcome to join Congregation Shaara Tfille/The Jewish Community Center of Saratoga Springs\, located at 84 Weibel Avenue\, as Rabbi/Cantor Kenneth Stuart Blatt presents an Adult Education class entitled A Preview of Passover&nbsp\;on Wednesday\, March 25th at 7:00 p.m. Passover is the most observed Jewish holiday\, and the Seder is the most observed Jewish ritual of the entire Hebrew calendar. Rabbi Blatt will explore the celebration of this festive biblical holy day through the ages\, discuss some of the lesser known facts about Passover and present the beautiful symbolism of the Seder. For more information\, call 584-2370 or email saratogajcc@verizon.net.
LOCATION:Congregation Shaara Tfille/The Jewish Community Center of Saratoga Springs 84 Weibel Avenue
UID:e.2254.6707
SEQUENCE:3
DTSTAMP:20260423T214702Z
URL:https://chamber.saratoga.org/events/details/adult-education-a-preview-of-passover-03-25-2015-6707
END:VEVENT

END:VCALENDAR
