BEGIN:VCALENDAR
VERSION:2.0
PRODID:-//ChamberMaster//Event Calendar 2.0//EN
METHOD:PUBLISH
X-PUBLISHED-TTL:P3D
REFRESH-INTERVAL:P3D
CALSCALE:GREGORIAN
BEGIN:VEVENT
DTSTART:20161019T220000Z
DTEND:20161020T003000Z
X-MICROSOFT-CDO-ALLDAYEVENT:FALSE
SUMMARY:Adirondack Trust Company Community Fund's An Evening of Autumn of Giving
DESCRIPTION:Please join us for our 4th Annual Evening of Autumn of Giving Event.\n\nA fundraiser to help support the ATC Community Fund Lend-a-Hand Grant program.\n\nWe hope you can make it!\n\nHELP US MAKE A DIFFERENCE IN OCTOBER\n\nOur 2016 Autumn of Giving Match Campaign (Oct. 1-31\, 2016) will provide needed funds to support deserving local nonprofit organizations in Saratoga\, Warren and Washington Counties.\n\nThe Adirondack Trust Company will MATCH all donations made during the Campaign and 100% of the funds donated will benefit local charities through our Lend-a-Hand Grant program.\n\nYour donation\, including event ticket\, is fully tax deductible.
X-ALT-DESC;FMTTYPE=text/html:<p>Please join us for our 4th Annual Evening of Autumn of Giving Event.<br />\nA fundraiser to help support the ATC Community Fund Lend-a-Hand Grant program.<br />\nWe hope you can make it!</p>\n\n<p><span style="color: rgb(255\, 102\, 0)\;"><strong>HELP US MAKE A DIFFERENCE IN OCTOBER</strong></span></p>\n\n<p>Our 2016 Autumn of Giving Match Campaign (Oct. 1-31\, 2016) will provide needed funds to support deserving local nonprofit organizations in Saratoga\, Warren and Washington Counties.</p>\n\n<p>The Adirondack Trust Company will MATCH all donations made during the Campaign and 100% of the funds donated will benefit local charities through our Lend-a-Hand Grant program.<br />\n<strong>Your donation\, including event ticket\, is fully tax deductible.</strong></p>\n
LOCATION:ATC Community Fund An Evening of Autumn of Giving Longfellows Hotel and Restaurant Saratoga Springs\, NY
UID:e.2254.19459
SEQUENCE:3
DTSTAMP:20260420T215007Z
URL:https://chamber.saratoga.org/events/details/adirondack-trust-company-community-fund-s-an-evening-of-autumn-of-giving-19459
END:VEVENT

END:VCALENDAR
