BEGIN:VCALENDAR
VERSION:2.0
PRODID:-//ChamberMaster//Event Calendar 2.0//EN
METHOD:PUBLISH
X-PUBLISHED-TTL:P3D
REFRESH-INTERVAL:P3D
CALSCALE:GREGORIAN
BEGIN:VEVENT
DTSTART:20160401T230000Z
DTEND:20160402T020000Z
X-MICROSOFT-CDO-ALLDAYEVENT:FALSE
SUMMARY:Adirondack Thunder vs Norfolk
DESCRIPTION:Come see the Adirondack Thunder take on the Norfolk Admirals!
X-ALT-DESC;FMTTYPE=text/html:Come see the Adirondack Thunder take on the Norfolk Admirals!
LOCATION:Glens Falls Civic Center 1 Civic Center Plaza Glens Falls\, NY 12801
UID:e.2254.10089
SEQUENCE:3
DTSTAMP:20260421T163500Z
URL:https://chamber.saratoga.org/events/details/adirondack-thunder-vs-norfolk-04-01-2016-10089
END:VEVENT

END:VCALENDAR
