BEGIN:VCALENDAR
VERSION:2.0
PRODID:-//ChamberMaster//Event Calendar 2.0//EN
METHOD:PUBLISH
X-PUBLISHED-TTL:P3D
REFRESH-INTERVAL:P3D
CALSCALE:GREGORIAN
BEGIN:VEVENT
DTSTART:20160409T230000Z
DTEND:20160410T020000Z
X-MICROSOFT-CDO-ALLDAYEVENT:FALSE
SUMMARY:Adirondack Thunder vs Manchester
DESCRIPTION:Come see the Adirondack Thunder take on the Manchester Monarchs in their last home game of the regular season!
X-ALT-DESC;FMTTYPE=text/html:Come see the Adirondack Thunder take on the Manchester Monarchs in their last home game of the regular season!
LOCATION:Glens Falls Civic Center 1 Civic Center Plaza Glens Falls\, NY 12801
UID:e.2254.10093
SEQUENCE:3
DTSTAMP:20260421T163552Z
URL:https://chamber.saratoga.org/events/details/adirondack-thunder-vs-manchester-04-09-2016-10093
END:VEVENT

END:VCALENDAR
