BEGIN:VCALENDAR
VERSION:2.0
PRODID:-//ChamberMaster//Event Calendar 2.0//EN
METHOD:PUBLISH
X-PUBLISHED-TTL:P3D
REFRESH-INTERVAL:P3D
CALSCALE:GREGORIAN
BEGIN:VEVENT
DTSTART:20151230T000000Z
DTEND:20151230T030000Z
X-MICROSOFT-CDO-ALLDAYEVENT:FALSE
SUMMARY:Adirondack Thunder vs Greenville
DESCRIPTION:Come see the Adirondack Thunder take on the Greenville Road Warriors!
X-ALT-DESC;FMTTYPE=text/html:Come see the Adirondack Thunder take on the Greenville Road Warriors!
LOCATION:Glens Falls Civic Center 1 Civic Center Plaza Glens Falls\, NY 12801
UID:e.2254.10068
SEQUENCE:3
DTSTAMP:20260422T090512Z
URL:https://chamber.saratoga.org/events/details/adirondack-thunder-vs-greenville-12-29-2015-10068
END:VEVENT

END:VCALENDAR
