BEGIN:VCALENDAR
VERSION:2.0
PRODID:-//ChamberMaster//Event Calendar 2.0//EN
METHOD:PUBLISH
X-PUBLISHED-TTL:P3D
REFRESH-INTERVAL:P3D
CALSCALE:GREGORIAN
BEGIN:VEVENT
DTSTART:20150809T233000Z
DTEND:20150810T020000Z
X-MICROSOFT-CDO-ALLDAYEVENT:FALSE
SUMMARY:Adirondack Summer
DESCRIPTION:Members of the Philadelphia Orchestra pay tribute to The Sembrich's former curator George Cornwell with a program featuring Schubert's "Trout" Quintet\, quartets by Rossini\, and settings for Cornwells' Adirondack poetry composed by Philip Kates.
X-ALT-DESC;FMTTYPE=text/html:Members of the Philadelphia Orchestra pay tribute to The Sembrich&#39\;s former curator George Cornwell with a program featuring Schubert&#39\;s &quot\;Trout&quot\; Quintet\, quartets by Rossini\, and settings for Cornwells&#39\; Adirondack poetry composed by Philip Kates.
LOCATION:The Sembrich\, 4800 Lakeshore Drive\, Bolton Landing\, NY
UID:e.2254.10041
SEQUENCE:3
DTSTAMP:20260423T022155Z
URL:https://chamber.saratoga.org/events/details/adirondack-summer-08-09-2015-10041
END:VEVENT

END:VCALENDAR
