BEGIN:VCALENDAR
VERSION:2.0
PRODID:-//ChamberMaster//Event Calendar 2.0//EN
METHOD:PUBLISH
X-PUBLISHED-TTL:P3D
REFRESH-INTERVAL:P3D
CALSCALE:GREGORIAN
BEGIN:VEVENT
DTSTART:20160720T210000Z
DTEND:20160721T000000Z
X-MICROSOFT-CDO-ALLDAYEVENT:FALSE
SUMMARY:Adirondack Moss Vases and Pinecone "Flowers" with Roberta Games. #944-0720.
DESCRIPTION:Bring the look of the Adirondacks inside to enjoy all year. Students will learn to make pinecone "flowers" that along with twigs will embellish a medium sized vase and two votive holders (votives included). Dried grasses will be added to complete this beautiful\, natural look.
X-ALT-DESC;FMTTYPE=text/html:<pre>\n<span style="font-size:12pt"><span style="font-family:arial\,sans-serif"><span style="color:black">Bring the look of the Adirondacks inside to enjoy all year. Students will learn to make pinecone &quot\;flowers&quot\; that along with twigs will embellish a medium sized vase and two votive holders (votives included). Dried grasses will be added to complete this beautiful\, natural look.</span></span></span></pre>\n
LOCATION:Adirondack Folk School 51 Main Street Lake Luzerne\, NY 12846
UID:e.2254.15633
SEQUENCE:3
DTSTAMP:20260421T050501Z
URL:https://chamber.saratoga.org/events/details/adirondack-moss-vases-and-pinecone-flowers-with-roberta-games-944-0720-07-20-2016-15633
END:VEVENT

END:VCALENDAR
