BEGIN:VCALENDAR
VERSION:2.0
PRODID:-//ChamberMaster//Event Calendar 2.0//EN
METHOD:PUBLISH
X-PUBLISHED-TTL:P3D
REFRESH-INTERVAL:P3D
CALSCALE:GREGORIAN
BEGIN:VEVENT
DTSTART:20160604T220000Z
DTEND:20160605T020000Z
X-MICROSOFT-CDO-ALLDAYEVENT:FALSE
SUMMARY:Adirondack Folk School to Host Its 7th Annual Hearts For The Arts Dinner
DESCRIPTION:The Adirondack Folk School will host its 7th annual Hearts for the Arts Dinner and Silent Auction at 6:00 p.m. on Saturday\, June 4\, 2016\, at the Lake George Holiday Inn Resort\; 2223 Canada Street\, Lake George\, New York.  The Post-Star Newspaper will receive the School's Patron of the Arts Award.  On behalf of the Post-Star\, Feature Editor\, Rhonda Triller\, will receive the award\, which is given to people or entities whose actions \n\nfurther the advancement of local cultural arts.\n\n \n\n"The Post-Star has been extremely instrumental in making the community aware of the financial and cultural importance of the Folk School to the region" says Rand Condell\, President of the Board of Directors.\n\n \n\nThe Adirondack Folk School seeks to preserve Adirondack arts\, crafts and culture through a diverse offering of more than 200 classes each year. The evening benefits the continued operation of the school\, and it will include music\, dinner and a silent auction of locally made Adirondack crafts and wares. The silent auction items have been donated by the School's renowned instructors and various local artisans including furniture made by Half Moon Works.\n\n \n\nHearts for the Arts is $45.00 for Adirondack Folk School members\, and $50.00 for non-members.  Reservations may be made by calling the school at 518.696.2400.  \n\n \n\nCompany Name Adirondack Folk School\n\nContact Phone Number 518.696.2400\n\nContact E-mail info@adirondackfolkschool.org \n\nWebsite URL www.adirondackfolkschool.org
X-ALT-DESC;FMTTYPE=text/html:<strong><span style="font-size:12pt"><span style="font-family:verdana\,sans-serif"><span style="color:rgb(85\, 85\, 85)">The Adirondack Folk School will host its 7th annual Hearts for the Arts Dinner and Silent Auction at 6:00 p.m. on Saturday\, June 4\, 2016\, at the Lake George Holiday Inn Resort\; 2223 Canada Street\, Lake George\, New York.&nbsp\; The Post-Star Newspaper will receive the School&rsquo\;s Patron of the Arts Award.&nbsp\; On behalf of the Post-Star\, Feature Editor\, Rhonda Triller\, will receive the award\, which is given to people or entities whose actions </span></span></span></strong><br />\n<strong><span style="font-size:12pt"><span style="font-family:verdana\,sans-serif"><span style="color:rgb(85\, 85\, 85)">further the advancement of local cultural arts.</span></span></span></strong><br />\n&nbsp\;<br />\n<strong><span style="font-size:12pt"><span style="font-family:verdana\,sans-serif"><span style="color:rgb(85\, 85\, 85)">&ldquo\;The Post-Star has been extremely instrumental in making the community aware of the financial and cultural importance of the Folk School to the region&rdquo\; says Rand Condell\, President of the Board of Directors.</span></span></span></strong><br />\n&nbsp\;<br />\n<strong><span style="font-size:12pt"><span style="font-family:verdana\,sans-serif"><span style="color:rgb(85\, 85\, 85)">The Adirondack Folk School seeks to preserve Adirondack arts\, crafts and culture through a diverse offering of more than 200 classes each year. The evening benefits the continued operation of the school\, and it will include music\, dinner and a silent auction of locally made Adirondack crafts and wares. The silent auction items have been donated by the School&rsquo\;s renowned instructors and various local artisans including furniture made by Half Moon Works.</span></span></span></strong><br />\n&nbsp\;<br />\n<strong><span style="font-size:12pt"><span style="font-family:verdana\,sans-serif"><span style="color:rgb(85\, 85\, 85)">Hearts for the Arts is $45.00 for Adirondack Folk School members\, and $50.00 for non-members.&nbsp\; Reservations may be made by calling the school at 518.696.2400.&nbsp\;&nbsp\;</span></span></span></strong><br />\n&nbsp\;<br />\n<strong><span style="font-size:12pt"><span style="font-family:verdana\,sans-serif"><span style="color:rgb(85\, 85\, 85)">Company Name Adirondack Folk School</span></span></span></strong><br />\n<strong><span style="font-size:12pt"><span style="font-family:verdana\,sans-serif"><span style="color:rgb(85\, 85\, 85)">Contact Phone Number 518.696.2400</span></span></span></strong><br />\n<strong><span style="font-size:12pt"><span style="font-family:verdana\,sans-serif"><span style="color:rgb(85\, 85\, 85)">Contact E-mail info@adirondackfolkschool.org </span></span></span></strong><br />\n<strong><span style="font-size:12pt"><span style="font-family:verdana\,sans-serif"><span style="color:rgb(85\, 85\, 85)">Website URL www.adirondackfolkschool.org</span></span></span></strong><br />\n&nbsp\;
LOCATION:Lake George Holiday Inn Resort\; 2223 Canada Street\, Lake George\, New York.
UID:e.2254.16539
SEQUENCE:3
DTSTAMP:20260421T080704Z
URL:https://chamber.saratoga.org/events/details/adirondack-folk-school-to-host-its-7th-annual-hearts-for-the-arts-dinner-06-04-2016-16539
END:VEVENT

END:VCALENDAR
