BEGIN:VCALENDAR
VERSION:2.0
PRODID:-//ChamberMaster//Event Calendar 2.0//EN
METHOD:PUBLISH
X-PUBLISHED-TTL:P3D
REFRESH-INTERVAL:P3D
CALSCALE:GREGORIAN
BEGIN:VEVENT
DTSTART:20150314T220000Z
DTEND:20150315T010000Z
X-MICROSOFT-CDO-ALLDAYEVENT:FALSE
SUMMARY:Adirondack Flames vs. Toronto - 03/14/2015
DESCRIPTION:Adirondack Flames HockeySaturday Night is Hockey Night in Glens Falls\, presented by Bud Light. “Go Green” night.  A combination of St. Patrick’s Day enthusiasm with some environmental awareness\, sponsored by Solar City
X-ALT-DESC;FMTTYPE=text/html:<p>Adirondack Flames Hockey</p><div style="font-family: Arial\, Helvetica\, sans-serif\; font-size: 16px\; line-height: normal\; background-color: rgb(255\, 255\, 255)\;">Saturday Night is Hockey Night in Glens Falls\, presented by Bud Light. “Go Green” night. &nbsp\;A combination of St. Patrick’s Day enthusiasm with some environmental awareness\, sponsored by Solar City&nbsp\;</div><div><br></div>
LOCATION:Glens Falls Civic Center
UID:e.2254.2145
SEQUENCE:3
DTSTAMP:20260423T214142Z
URL:https://chamber.saratoga.org/events/details/adirondack-flames-vs-toronto-03-14-2015-03-14-2015-2145
END:VEVENT

END:VCALENDAR
