BEGIN:VCALENDAR
VERSION:2.0
PRODID:-//ChamberMaster//Event Calendar 2.0//EN
METHOD:PUBLISH
X-PUBLISHED-TTL:P3D
REFRESH-INTERVAL:P3D
CALSCALE:GREGORIAN
BEGIN:VEVENT
DTSTART:20150107T000000Z
DTEND:20150107T030000Z
X-MICROSOFT-CDO-ALLDAYEVENT:FALSE
SUMMARY:Adirondack Flames vs. San Antonio - 01/06/2015
DESCRIPTION:Adirondack Flames Hockey25 Silver Tuesdays – First 1\,000 fans receive a Gift Certificate to 25 Silver Boutique. Applebee’s on Quaker Road holding specials prior to puck drop.
X-ALT-DESC;FMTTYPE=text/html:<p>Adirondack Flames Hockey</p><span style="font-family: Arial\, Helvetica\, sans-serif\; font-size: 16px\; line-height: normal\; background-color: rgb(255\, 255\, 255)\;">25 Silver Tuesdays – First 1\,000 fans receive a Gift Certificate to 25 Silver Boutique. Applebee’s on Quaker Road holding specials prior to puck drop.</span><br>
LOCATION:Glens Falls Civic Center
UID:e.2254.2134
SEQUENCE:3
DTSTAMP:20260424T015007Z
URL:https://chamber.saratoga.org/events/details/adirondack-flames-vs-san-antonio-01-06-2015-01-06-2015-2134
END:VEVENT

END:VCALENDAR
