BEGIN:VCALENDAR
VERSION:2.0
PRODID:-//ChamberMaster//Event Calendar 2.0//EN
METHOD:PUBLISH
X-PUBLISHED-TTL:P3D
REFRESH-INTERVAL:P3D
CALSCALE:GREGORIAN
BEGIN:VEVENT
DTSTART:20150328T220000Z
DTEND:20150329T010000Z
X-MICROSOFT-CDO-ALLDAYEVENT:FALSE
SUMMARY:Adirondack Flames vs. Oklahoma City - 03/28/2015
DESCRIPTION:Adirondack Flames HockeySaturday Night is Hockey Night in Glens Falls\, presented by Bud Light. Stop DWI Night initiative\, run in conjunction with the Saratoga District Attorney office.
X-ALT-DESC;FMTTYPE=text/html:<p>Adirondack Flames Hockey</p><div style="font-family: Arial\, Helvetica\, sans-serif\; font-size: 16px\; line-height: normal\; background-color: rgb(255\, 255\, 255)\;">Saturday Night is Hockey Night in Glens Falls\, presented by Bud Light. Stop DWI Night initiative\, run in conjunction with the Saratoga District Attorney office.&nbsp\;</div><div><br></div>
LOCATION:Glens Falls Civic Center
UID:e.2254.2149
SEQUENCE:3
DTSTAMP:20260423T214315Z
URL:https://chamber.saratoga.org/events/details/adirondack-flames-vs-oklahoma-city-03-28-2015-03-28-2015-2149
END:VEVENT

END:VCALENDAR
