BEGIN:VCALENDAR
VERSION:2.0
PRODID:-//ChamberMaster//Event Calendar 2.0//EN
METHOD:PUBLISH
X-PUBLISHED-TTL:P3D
REFRESH-INTERVAL:P3D
CALSCALE:GREGORIAN
BEGIN:VEVENT
DTSTART:20150412T200000Z
DTEND:20150412T230000Z
X-MICROSOFT-CDO-ALLDAYEVENT:FALSE
SUMMARY:Adirondack Flames vs. Lake Erie - 04/12/2015
DESCRIPTION:Adirondack Flames HockeyPost-Game Skate with the team\, presented by Glens Falls Hospital.
X-ALT-DESC;FMTTYPE=text/html:<p>Adirondack Flames Hockey</p><div style="font-family: Arial\, Helvetica\, sans-serif\; font-size: 16px\; line-height: normal\; background-color: rgb(255\, 255\, 255)\;">Post-Game Skate with the team\, presented by Glens Falls Hospital.&nbsp\;</div><div><br></div>
LOCATION:Glens Falls Civic Center
UID:e.2254.2151
SEQUENCE:3
DTSTAMP:20260423T214519Z
URL:https://chamber.saratoga.org/events/details/adirondack-flames-vs-lake-erie-04-12-2015-04-12-2015-2151
END:VEVENT

END:VCALENDAR
