BEGIN:VCALENDAR
VERSION:2.0
PRODID:-//ChamberMaster//Event Calendar 2.0//EN
METHOD:PUBLISH
X-PUBLISHED-TTL:P3D
REFRESH-INTERVAL:P3D
CALSCALE:GREGORIAN
BEGIN:VEVENT
DTSTART;VALUE=DATE:20150130
DTEND;VALUE=DATE:20150131
TRANSP:TRANSPARENT
X-MICROSOFT-CDO-ALLDAYEVENT:TRUE
SUMMARY:Adirondack Flames Season Schedule - 01/30/2015
DESCRIPTION:Adirondack Flames 2014-15 Home Schedule\n\n \n\nFri    1/2/2015      \n\n7:00 PM Utica  @  Adirondack          \n\nSat    1/3/2015   \n\n7 :00 PM Rochester  @ Adirondack          \n\n\n\nTue   1/6/2015   \n\n7:00 PM San Antonio  @ Adirondack          \n\nFri     1/9/2015    \n\n7:00 PM Oklahoma City  @ Adirondack          \n\nSat     1/17/2015    \n\n7:00 PM Milwaukee  @ Adirondack\n\n                       \n\nSat     1/24/2015     \n\n7:00 PM Rochester  @ Adirondack          \n\nSat     1/31/2015    \n\n7:00 PM Rochester  @  Adirondack\n\n\n\nWed   2/4/2015     \n\n7:00 PM Iowa  @  Adirondack          \n\nFri      2/6/2015       \n\n7:00 PM Utica  @  Adirondack          \n\nSat     2/7/2015      \n\n7:00 PM Utica  @  Adirondack          \n\nTue    2/10/2015    \n\n7:00 PM Syracuse  @  Adirondack          \n\nSat     2/28/2015     \n\n7:00 PM Toronto  @  Adirondack          \n\nTue    3/10/2015      \n\n7:00 PM Hamilton  @  Adirondack          \n\nSat     3/14/2015     \n\n7:00 PM Toronto  @  Adirondack          \n\nSun    3/15/2015    \n\n5:00 PM Binghamton  @  Adirondack            \n\n\n\nWed   3/25/2015     \n\n7:00 PM Hamilton   @  Adirondack          \n\nFri      3/27/2015      \n\n7:00 PM Rockford  @  Adirondack          \n\nSat    3/28/2015   \n\n7:00 PM Oklahoma City  @ Adirondack          \n\nSat    4/11/2015      \n\n7:00 PM Lake Erie  @ Adirondack          \n\nSun   4/12/2015     \n\n5:00 PM Lake Erie  @ Adirondack          \n\nSat    4/18/2015       \n\n7:00 PM Utica  @ Adirondack          \n\nSun   4/19/2015     \n\n5:00 PM Rochester  @ Adirondack
X-ALT-DESC;FMTTYPE=text/html:<p><span style="font-size: 12px\;">Adirondack Flames 2014-15 Home Schedule</span><br />\n&nbsp\;</p>\n\n<p><span style="font-size: 12px\;">Fri&nbsp\;&nbsp\; &nbsp\;1/2/2015&nbsp\;&nbsp\;&nbsp\;&nbsp\;&nbsp\;&nbsp\;<br />\n7:00 PM Utica &nbsp\;@&nbsp\; Adirondack&nbsp\;&nbsp\;&nbsp\;&nbsp\;&nbsp\;&nbsp\;&nbsp\;&nbsp\;&nbsp\;&nbsp\;</span></p>\n\n<p><span style="font-size: 12px\;">Sat&nbsp\;&nbsp\;&nbsp\;&nbsp\;1/3/2015&nbsp\;&nbsp\;&nbsp\;<br />\n7 :00 PM Rochester&nbsp\; @ Adirondack&nbsp\;&nbsp\;&nbsp\;&nbsp\;&nbsp\;&nbsp\;&nbsp\;&nbsp\;&nbsp\;&nbsp\;<br />\n<br />\nTue&nbsp\;&nbsp\; 1/6/2015&nbsp\;&nbsp\;&nbsp\;<br />\n7:00 PM San Antonio&nbsp\; @&nbsp\;Adirondack&nbsp\;&nbsp\;&nbsp\;&nbsp\;&nbsp\;&nbsp\;&nbsp\;&nbsp\;&nbsp\;&nbsp\;</span></p>\n\n<p><span style="font-size: 12px\;">Fri&nbsp\;&nbsp\;&nbsp\;&nbsp\;&nbsp\;1/9/2015&nbsp\;&nbsp\;&nbsp\;&nbsp\;<br />\n7:00 PM Oklahoma City&nbsp\; @&nbsp\;Adirondack&nbsp\;&nbsp\;&nbsp\;&nbsp\;&nbsp\;&nbsp\;&nbsp\;&nbsp\;&nbsp\;&nbsp\;</span></p>\n\n<p><span style="font-size: 12px\;">Sat&nbsp\;&nbsp\;&nbsp\; &nbsp\;1/17/2015&nbsp\;&nbsp\;&nbsp\;&nbsp\;<br />\n7:00 PM Milwaukee&nbsp\;&nbsp\;@ Adirondack<br />\n&nbsp\;&nbsp\;&nbsp\;&nbsp\;&nbsp\;&nbsp\;&nbsp\;&nbsp\;&nbsp\;&nbsp\;&nbsp\;&nbsp\;&nbsp\;&nbsp\;&nbsp\;&nbsp\;&nbsp\;&nbsp\;&nbsp\;&nbsp\;&nbsp\;&nbsp\;&nbsp\;<br />\nSat&nbsp\;&nbsp\;&nbsp\;&nbsp\; 1/24/2015&nbsp\;&nbsp\;&nbsp\;&nbsp\;&nbsp\;<br />\n7:00 PM Rochester&nbsp\; @&nbsp\;Adirondack&nbsp\;&nbsp\;&nbsp\;&nbsp\;&nbsp\;&nbsp\;&nbsp\;&nbsp\;&nbsp\;&nbsp\;</span></p>\n\n<p><span style="font-size: 12px\;">Sat&nbsp\;&nbsp\;&nbsp\;&nbsp\; 1/31/2015&nbsp\;&nbsp\;&nbsp\;&nbsp\;<br />\n7:00 PM Rochester&nbsp\; @&nbsp\;&nbsp\;Adirondack<br />\n<br />\nWed&nbsp\;&nbsp\; 2/4/2015&nbsp\;&nbsp\;&nbsp\;&nbsp\;&nbsp\;<br />\n7:00 PM Iowa&nbsp\; @&nbsp\;&nbsp\;Adirondack&nbsp\;&nbsp\;&nbsp\;&nbsp\;&nbsp\;&nbsp\;&nbsp\;&nbsp\;&nbsp\;&nbsp\;</span></p>\n\n<p><span style="font-size: 12px\;">Fri&nbsp\;&nbsp\;&nbsp\;&nbsp\;&nbsp\; 2/6/2015&nbsp\;&nbsp\;&nbsp\;&nbsp\; &nbsp\;&nbsp\;<br />\n7:00 PM Utica &nbsp\;@&nbsp\;&nbsp\;Adirondack&nbsp\;&nbsp\;&nbsp\;&nbsp\;&nbsp\;&nbsp\;&nbsp\;&nbsp\;&nbsp\;&nbsp\;</span></p>\n\n<p><span style="font-size: 12px\;">Sat&nbsp\;&nbsp\;&nbsp\;&nbsp\; 2/7/2015&nbsp\;&nbsp\;&nbsp\;&nbsp\;&nbsp\;&nbsp\;<br />\n7:00 PM Utica&nbsp\; @&nbsp\;&nbsp\;Adirondack&nbsp\;&nbsp\;&nbsp\;&nbsp\;&nbsp\;&nbsp\;&nbsp\;&nbsp\;&nbsp\;&nbsp\;</span></p>\n\n<p><span style="font-size: 12px\;">Tue&nbsp\;&nbsp\;&nbsp\; 2/10/2015&nbsp\;&nbsp\;&nbsp\;&nbsp\;<br />\n7:00 PM Syracuse&nbsp\; @&nbsp\;&nbsp\;Adirondack&nbsp\;&nbsp\;&nbsp\;&nbsp\;&nbsp\;&nbsp\;&nbsp\;&nbsp\;&nbsp\;&nbsp\;</span></p>\n\n<p><span style="font-size: 12px\;">Sat&nbsp\;&nbsp\;&nbsp\; &nbsp\;2/28/2015&nbsp\;&nbsp\;&nbsp\;&nbsp\;&nbsp\;<br />\n7:00 PM Toronto&nbsp\;&nbsp\;@&nbsp\;&nbsp\;Adirondack&nbsp\;&nbsp\;&nbsp\;&nbsp\;&nbsp\;&nbsp\;&nbsp\;&nbsp\;&nbsp\;&nbsp\;</span></p>\n\n<p><span style="font-size: 12px\;">Tue&nbsp\;&nbsp\; &nbsp\;3/10/2015&nbsp\;&nbsp\;&nbsp\;&nbsp\;&nbsp\;&nbsp\;<br />\n7:00 PM Hamilton&nbsp\; @&nbsp\;&nbsp\;Adirondack&nbsp\;&nbsp\;&nbsp\;&nbsp\;&nbsp\;&nbsp\;&nbsp\;&nbsp\;&nbsp\;&nbsp\;</span></p>\n\n<p><span style="font-size: 12px\;">Sat&nbsp\;&nbsp\; &nbsp\; 3/14/2015&nbsp\;&nbsp\;&nbsp\;&nbsp\;&nbsp\;<br />\n7:00 PM Toronto&nbsp\; @&nbsp\;&nbsp\;Adirondack&nbsp\;&nbsp\;&nbsp\;&nbsp\;&nbsp\;&nbsp\;&nbsp\;&nbsp\;&nbsp\;&nbsp\;</span></p>\n\n<p><span style="font-size: 12px\;">Sun&nbsp\; &nbsp\; 3/15/2015&nbsp\;&nbsp\;&nbsp\;&nbsp\;<br />\n5:00 PM Binghamton&nbsp\;&nbsp\;@&nbsp\;&nbsp\;Adirondack&nbsp\;&nbsp\;&nbsp\;&nbsp\;&nbsp\;&nbsp\;&nbsp\;&nbsp\;&nbsp\;&nbsp\;&nbsp\;&nbsp\;<br />\n<br />\nWed&nbsp\;&nbsp\; 3/25/2015&nbsp\;&nbsp\;&nbsp\;&nbsp\;&nbsp\;<br />\n7:00 PM Hamilton&nbsp\; &nbsp\;@&nbsp\;&nbsp\;Adirondack&nbsp\;&nbsp\;&nbsp\;&nbsp\;&nbsp\;&nbsp\;&nbsp\;&nbsp\;&nbsp\;&nbsp\;</span></p>\n\n<p><span style="font-size: 12px\;">Fri&nbsp\;&nbsp\;&nbsp\;&nbsp\;&nbsp\; 3/27/2015&nbsp\;&nbsp\;&nbsp\;&nbsp\;&nbsp\;&nbsp\;<br />\n7:00 PM Rockford&nbsp\; @&nbsp\;&nbsp\;Adirondack&nbsp\;&nbsp\;&nbsp\;&nbsp\;&nbsp\;&nbsp\;&nbsp\;&nbsp\;&nbsp\;&nbsp\;</span></p>\n\n<p><span style="font-size: 12px\;">Sat&nbsp\;&nbsp\;&nbsp\; 3/28/2015&nbsp\;&nbsp\;&nbsp\;<br />\n7:00 PM Oklahoma City&nbsp\; @&nbsp\;Adirondack&nbsp\;&nbsp\;&nbsp\;&nbsp\;&nbsp\;&nbsp\;&nbsp\;&nbsp\;&nbsp\;&nbsp\;</span></p>\n\n<p><span style="font-size: 12px\;">Sat&nbsp\; &nbsp\;&nbsp\;4/11/2015&nbsp\;&nbsp\;&nbsp\;&nbsp\;&nbsp\;&nbsp\;<br />\n7:00 PM Lake Erie&nbsp\; @&nbsp\;Adirondack&nbsp\;&nbsp\;&nbsp\;&nbsp\;&nbsp\;&nbsp\;&nbsp\;&nbsp\;&nbsp\;&nbsp\;</span></p>\n\n<p><span style="font-size: 12px\;">Sun&nbsp\;&nbsp\; 4/12/2015&nbsp\;&nbsp\;&nbsp\;&nbsp\;&nbsp\;<br />\n5:00 PM Lake Erie&nbsp\; @&nbsp\;Adirondack&nbsp\;&nbsp\;&nbsp\;&nbsp\;&nbsp\;&nbsp\;&nbsp\;&nbsp\;&nbsp\;&nbsp\;</span></p>\n\n<p><span style="font-size: 12px\;">Sat&nbsp\;&nbsp\; &nbsp\;4/18/2015&nbsp\;&nbsp\;&nbsp\;&nbsp\;&nbsp\;&nbsp\;&nbsp\;<br />\n7:00 PM Utica&nbsp\; @&nbsp\;Adirondack&nbsp\;&nbsp\;&nbsp\;&nbsp\;&nbsp\;&nbsp\;&nbsp\;&nbsp\;&nbsp\;&nbsp\;</span></p>\n\n<p><span style="font-size: 14px\;"><span style="font-size: 12px\;">Sun&nbsp\;&nbsp\;&nbsp\;4/19/2015&nbsp\;&nbsp\;&nbsp\;&nbsp\;&nbsp\;<br />\n5:00 PM Rochester&nbsp\; @&nbsp\;Adirondack&nbsp\;&nbsp\;&nbsp\;&nbsp\;&nbsp\;</span></span></p>\n\n<p>&nbsp\;</p>\n
LOCATION:Glens Falls Civic Center
UID:e.2254.4826
SEQUENCE:3
DTSTAMP:20260424T015037Z
URL:https://chamber.saratoga.org/events/details/adirondack-flames-season-schedule-01-30-2015-01-30-2015-4826
END:VEVENT

END:VCALENDAR
