BEGIN:VCALENDAR
VERSION:2.0
PRODID:-//ChamberMaster//Event Calendar 2.0//EN
METHOD:PUBLISH
X-PUBLISHED-TTL:P3D
REFRESH-INTERVAL:P3D
CALSCALE:GREGORIAN
BEGIN:VEVENT
DTSTART:20140826T210000Z
DTEND:20140826T223000Z
X-MICROSOFT-CDO-ALLDAYEVENT:FALSE
SUMMARY:Adirondack Architecture: Great Camps and Rustic Tradition - 08/26/2014
DESCRIPTION:Adirondack Architecture: Great Camps and Rustic Tradition\, Saratoga Springs Preservation Foundation LectureTuesday\, August 26                     7:00 PM Evening Event  Adirondack Architecture:  Great Camps and Rustic Tradition Spring Street Gallery\, 110 Spring Street Steven Engelhart\, Executive Director of Adirondack Architectural Heritage\, will give a talk and slide presentation on the rustic style of architecture typified in the classic Great Camps of New York State’s Adirondack Park. Often constructed with natural materials\, these buildings remain harmonious with the rugged Adirondack landscape and are historic testaments to their builders from the late 19th century.  $7 members/$10 non-members  Pre-registration is requested by August 25th as space is limited.
X-ALT-DESC;FMTTYPE=text/html:<p>Adirondack Architecture: Great Camps and Rustic Tradition\, Saratoga Springs Preservation Foundation Lecture</p><p style="margin-bottom: 0pt\;"><span style="font-size: 9pt\; line-height: 113%\; font-family: Calibri\; font-weight: bold\;">Tuesday\, August 26&nbsp\;&nbsp\; &nbsp\;&nbsp\;&nbsp\;&nbsp\;&nbsp\;&nbsp\;&nbsp\;&nbsp\;&nbsp\;&nbsp\;&nbsp\;&nbsp\;&nbsp\;&nbsp\;&nbsp\;&nbsp\;&nbsp\; 7:00 PM</span></p> <p style="margin-bottom: 0pt\;"><span style="font-size: 9pt\; line-height: 113%\; font-family: Calibri\; font-weight: bold\;">Evening Event </span></p> <p style="margin-bottom: 0pt\;"><span style="font-size: 9pt\; line-height: 113%\; font-family: Calibri\; font-weight: bold\;">Adirondack Architecture: </span></p> <p style="margin-bottom: 0pt\;"><span style="font-size: 9pt\; line-height: 113%\; font-family: Calibri\; font-weight: bold\;">Great Camps and Rustic Tradition</span></p> <p style="margin-bottom: 0pt\;"><span style="font-size: 9pt\; line-height: 113%\; font-family: Calibri\; font-style: italic\;">Spring Street Gallery\, 110 Spring Street</span></p> <p style="margin-bottom: 0pt\;"><span style="font-size: 9pt\; line-height: 113%\; font-family: Calibri\;">Steven Engelhart\, Executive Director of Adirondack Architectural Heritage\, will give a talk and slide presentation on the rustic style of architecture typified in the classic Great Camps of New York State’s Adirondack Park. Often constructed with natural materials\, these buildings remain harmonious with the rugged Adirondack landscape and are historic testaments to their builders from the late 19th century. </span></p> <p style="margin-bottom: 0pt\;"><span style="font-size: 9pt\; line-height: 113%\; font-family: Calibri\; font-weight: bold\;">$7 members/$10 non-members </span></p> <p style="margin-bottom: 0pt\;"><span style="font-size: 9pt\; line-height: 113%\; font-family: Calibri\; font-style: italic\; font-weight: bold\;">Pre-registration is requested by August 25th as space is limited.</span> </p> <p><span>&nbsp\;</span></p>
LOCATION:Spring Street Gallery
UID:e.2254.3340
SEQUENCE:3
DTSTAMP:20260424T153804Z
URL:https://chamber.saratoga.org/events/details/adirondack-architecture-great-camps-and-rustic-tradition-08-26-2014-08-26-2014-3340
END:VEVENT

END:VCALENDAR
