BEGIN:VCALENDAR
VERSION:2.0
PRODID:-//ChamberMaster//Event Calendar 2.0//EN
METHOD:PUBLISH
X-PUBLISHED-TTL:P3D
REFRESH-INTERVAL:P3D
CALSCALE:GREGORIAN
BEGIN:VEVENT
DTSTART:20150518T210000Z
DTEND:20150518T230000Z
X-MICROSOFT-CDO-ALLDAYEVENT:FALSE
SUMMARY:ADA Happy Hour at Prime at Saratoga National
DESCRIPTION:Monday\, May 18th | Veranda Porch | 5-7PM $5 Donation Admission to ADA.  Open to the Public.  Stationary Happy Hour.   Food compliments of Angelo.   Cash Bar.  Portion of the Proceeds will go to ADA. JOIN OUR TEAM! Sign Up to ride with Team Mazzone TOUR DE CURE | Live Music
X-ALT-DESC;FMTTYPE=text/html:Monday\, May 18th | Veranda Porch | 5-7PM $5 Donation Admission to ADA.&nbsp\; Open to the Public. &nbsp\;Stationary Happy Hour.&nbsp\; &nbsp\;Food compliments of Angelo.&nbsp\; &nbsp\;Cash Bar.&nbsp\;&nbsp\;Portion of the Proceeds will go to ADA. JOIN OUR TEAM! Sign Up to ride with Team Mazzone TOUR DE CURE | Live Music
LOCATION:458 Union Ave Saratoga Springs | Veranda Porch
UID:e.2254.8322
SEQUENCE:3
DTSTAMP:20260423T164320Z
URL:https://chamber.saratoga.org/events/details/ada-happy-hour-at-prime-at-saratoga-national-05-18-2015-8322
END:VEVENT

END:VCALENDAR
