BEGIN:VCALENDAR
VERSION:2.0
PRODID:-//ChamberMaster//Event Calendar 2.0//EN
METHOD:PUBLISH
X-PUBLISHED-TTL:P3D
REFRESH-INTERVAL:P3D
CALSCALE:GREGORIAN
BEGIN:VEVENT
DTSTART:20160525T230000Z
DTEND:20160526T010000Z
X-MICROSOFT-CDO-ALLDAYEVENT:FALSE
SUMMARY:Acoustic Blues Open Mic & Jam
DESCRIPTION:Caf  Lena\, Phila St\, Saratoga Springs\, NY. Open mic - sign-up & doors open at 7PM. NYS Blues Hall of Fame inductee Sonny Speed will be hosting the evening for SABS. This month's featured artist is - Robin O'Herrin Specializing in Delta and Piedmont blues and gospel she brings this seminal music into the present. Robin has shared the stage with Paul Geremia\, Andy Cohen and Roy Bookbinder\, as well as touring regionally in the US and in Europe.   I shared a stage with Robin a few years back at a Blues show at Lena - she's a fine player and a very nice person\, so come out and enjoy!
X-ALT-DESC;FMTTYPE=text/html:Caf&eacute\; Lena\, Phila St\, Saratoga Springs\, NY. Open mic - sign-up &amp\; doors open at 7PM. NYS Blues Hall of Fame inductee Sonny Speed will be hosting the evening for SABS. This month&#39\;s featured artist is - Robin O&#39\;Herrin Specializing in Delta and Piedmont blues and gospel she brings this seminal music into the present. Robin has shared the stage with Paul Geremia\, Andy Cohen and Roy Bookbinder\, as well as touring regionally in the US and in Europe. &nbsp\; I shared a stage with Robin a few years back at a Blues show at Lena - she&#39\;s a fine player and a very nice person\, so come out and enjoy!
LOCATION:Caf Lena 49 Phila Street
UID:e.2254.16818
SEQUENCE:3
DTSTAMP:20260421T180844Z
URL:https://chamber.saratoga.org/events/details/acoustic-blues-open-mic-jam-05-25-2016-16818
END:VEVENT

END:VCALENDAR
